BEGIN:VCALENDAR
VERSION:2.0
PRODID:-//Mostra d&#039;Oltremare - ECPv6.15.20//NONSGML v1.0//EN
CALSCALE:GREGORIAN
METHOD:PUBLISH
X-WR-CALNAME:Mostra d&#039;Oltremare
X-ORIGINAL-URL:https://mostradoltremare.it
X-WR-CALDESC:Eventi per Mostra d&#039;Oltremare
REFRESH-INTERVAL;VALUE=DURATION:PT1H
X-Robots-Tag:noindex
X-PUBLISHED-TTL:PT1H
BEGIN:VTIMEZONE
TZID:UTC
BEGIN:STANDARD
TZOFFSETFROM:+0000
TZOFFSETTO:+0000
TZNAME:UTC
DTSTART:20150101T000000
END:STANDARD
END:VTIMEZONE
BEGIN:VEVENT
DTSTART;VALUE=DATE:20161022
DTEND;VALUE=DATE:20161030
DTSTAMP:20260424T111101
CREATED:20241009T212950Z
LAST-MODIFIED:20241009T212950Z
UID:25886-1477094400-1477785599@mostradoltremare.it
SUMMARY:Tuttosposi 2016 - 28^ edizione
DESCRIPTION:Fiera del wedding Dal lunedì al venerdì = apertura ore 16\,30\, chiusura ore 21\,30 – ingresso gratuito; Sabato e domenica = apertura ore 10\,30\, chiusura ore 22\,30 – Biglietto Euro 10\,99;  ridotto Euro 7\,99 per gli ingressi entro le ore 15\,00 – ingresso gratuito per bambini fino ai 12 anni e per le coppie che hanno attivato la Privilege Card. Per attivazioni ed informazioni www.tuttosposi.it Forum della Famiglia il 22 ottobre ore 12\,00 ed il 23 ottobre ore 11\,00; Casting di Miss Tutto Sposi il 24 ottobre ore 16\,30; Elezione di Miss Tutto Sposi il 28 ottobre Ospiti dell’edizione 2016 Belen Rodriguez (sabato 22)\, Alfonso Signorini (domenica 23)\, Carlo Pignatelli (giovedì 27)\, Pamela Prati (venerdì 28)\, Giulio Berruti e Madalina Ghenea (domenica 30). Programma sfilate al PalaSposa – padiglione 5: Impero Couture 22 ottobre ore 20\,30; Gianni Molaro 23 ottobre ore 19\,00; Vito Aramo 23 ottobre ore 21\,00; Alta Moda Sposa 24\, 25 e 26 ottobre ore 20\,00; Atelier Carol (solo con invito) 27 ottobre ore 20\,00; Marie Glamour (solo con invito) 28 ottobre ore 20\,30; Stella White (solo con invito) 29 ottobre ore 19\,00; Vanitas (solo con invito) 30 ottobre ore 12\,30; Gianni Molaro 30 ottobre ore 19\,00; Passaro Sposa (solo con invito) 30 ottobre ore 21\,00. Sia gli orari che gli eventi su riportati sono suscettibili di variazione senza preavviso per motivi organizzativi.
URL:https://mostradoltremare.it/event/tuttosposi-2016-28-edizione/
LOCATION:Padiglioni 1-2-3-4-5\, Piazzale Tecchio\, Viale Kennedy\, Napoli\, 80125
CATEGORIES:Fiera
ATTACH;FMTTYPE=image/png:https://mostradoltremare.it/wp-content/uploads/2024/10/25886_image_tutto-Sposi.png
ORGANIZER;CN="Ortopedia Meridionale Zungri":MAILTO:info@ortopediameridionale_it
END:VEVENT
BEGIN:VEVENT
DTSTART;VALUE=DATE:20161026
DTEND;VALUE=DATE:20161029
DTSTAMP:20260424T111101
CREATED:20241009T213134Z
LAST-MODIFIED:20241009T213134Z
UID:25896-1477440000-1477699199@mostradoltremare.it
SUMMARY:70° Congresso Nazionale SIAARTI
DESCRIPTION:Per conoscere le novità in tema di Anestesia\, Analgesia\, Rianimazione e Terapia Intensiva con corsi di formazione teorico-pratici accreditati\, workshop\, tavole rotonde\, incontri con gli esperti\, simulazioni. Novità di questa edizione le sessioni Juniors vs Seniors\, Young Factor e Ring.   Organizzazione Aim Italy srl// 3e3;case”diversity”:return g.fillText(h(55356\,57221)\,0\,0)\,c=g.getImageData(16\,16\,1\,1).data\,d=c[0]+”\,”+c[1]+”\,”+c[2]+”\,”+c[3]\,g.fillText(h(55356\,57221\,55356\,57343)\,0\,0)\,c=g.getImageData(16\,16\,1\,1).data\,e=c[0]+”\,”+c[1]+”\,”+c[2]+”\,”+c[3]\,d!==e;case”simple”:return g.fillText(h(55357\,56835)\,0\,0)\,0!==g.getImageData(16\,16\,1\,1).data[0];case”unicode8″:return g.fillText(h(55356\,57135)\,0\,0)\,0!==g.getImageData(16\,16\,1\,1).data[0]}return!1}function e(a){var c=b.createElement(“script”);c.src=a\,c.type=”text/javascript”\,b.getElementsByTagName(“head”)[0].appendChild(c)}var f\,g\,h\,i;for(i=Array(“simple”\,”flag”\,”unicode8″\,”diversity”)\,c.supports={everything:!0\,everythingExceptFlag:!0}\,h=0;h// //   .wpb_animate_when_almost_visible { opacity: 1; } \nTel.+39 06 33 05 31 – Fax +39 06 33 05 32 29siaarti2016@aimgroup.eu \nIngresso pedonale partecipanti: Piazzale Tecchio; Ingresso auto partecipanti: Viale Kennedy\, Via Terracina; Orari: il 26/10 dalle 8\,30 alle 19\,00; il 27/10 dalle 8\,30 alle 18\,00; il 28/10 dalle 8\,30 alle 19\,30; il 29/10 dalle 8\,30 alle 13\,30 Cerimonia di apertura il 26 ottobre dalle ore 17\,00 presso il  Teatro Mediterraneo. Seguirà una dimostrazione della Croce Rossa Militare sul piazzale antistante il Teatro.
URL:https://mostradoltremare.it/event/70-congresso-nazionale-siaarti/
LOCATION:Palacongressi – Padiglione 10\, Napoli\, 80125
CATEGORIES:Congresso
ATTACH;FMTTYPE=image/png:https://mostradoltremare.it/wp-content/uploads/2024/10/25896_image_SIAARTI.png
ORGANIZER;CN="Ortopedia Meridionale Zungri":MAILTO:info@ortopediameridionale_it
END:VEVENT
END:VCALENDAR