BEGIN:VCALENDAR
VERSION:2.0
PRODID:-//Mostra d&#039;Oltremare - ECPv6.15.20//NONSGML v1.0//EN
CALSCALE:GREGORIAN
METHOD:PUBLISH
X-WR-CALNAME:Mostra d&#039;Oltremare
X-ORIGINAL-URL:https://mostradoltremare.it
X-WR-CALDESC:Eventi per Mostra d&#039;Oltremare
REFRESH-INTERVAL;VALUE=DURATION:PT1H
X-Robots-Tag:noindex
X-PUBLISHED-TTL:PT1H
BEGIN:VTIMEZONE
TZID:UTC
BEGIN:STANDARD
TZOFFSETFROM:+0000
TZOFFSETTO:+0000
TZNAME:UTC
DTSTART:20150101T000000
END:STANDARD
END:VTIMEZONE
BEGIN:VEVENT
DTSTART;TZID=UTC:20161112T100000
DTEND;TZID=UTC:20161114T180000
DTSTAMP:20260424T093200
CREATED:20241009T213327Z
LAST-MODIFIED:20241009T213327Z
UID:25910-1478944800-1479146400@mostradoltremare.it
SUMMARY:Aestetica 2016 - 20^ edizione
DESCRIPTION:Salone Mediterraneo dei professionisti della bellezza\, del benessere e dell’acconciatura. Eventi in programma nel corso della fiera: MAET ITALIA\, Hair Conference\, Nails Challenge\, Concorso Rondine d’Oro.   Orari: sabato e domenica: 10\,00-20\,00 – lunedì: 10\,00-18\,00 Prezzo biglietto giornaliero acquistato online: Euro 7\,00 – Prezzo abbonamento 3 giorni online: Euro 20\,00 – Prezzo biglietto giornaliero acquistato in fiera: Euro 15\,00 Ingressi Piazzale Tecchio e Viale Kennedy   Organizzazione: Funtastic srls Via Toledo 106 – 80134 Napoli tel 0815922946 – fax 0815920147 info@aestetica.it – www.aestetica.it
URL:https://mostradoltremare.it/event/aestetica-2016-20-edizione/
LOCATION:Padiglioni 1-2-3-3B-4-Area Merchandising e Reception principale\, Piazzale Tecchio\, Napoli\, 80125
CATEGORIES:Fiera
ATTACH;FMTTYPE=image/png:https://mostradoltremare.it/wp-content/uploads/2024/10/25910_image_aestetica.png
ORGANIZER;CN="Ortopedia Meridionale Zungri":MAILTO:info@ortopediameridionale_it
END:VEVENT
END:VCALENDAR