BEGIN:VCALENDAR
VERSION:2.0
PRODID:-//Mostra d&#039;Oltremare - ECPv6.15.20//NONSGML v1.0//EN
CALSCALE:GREGORIAN
METHOD:PUBLISH
X-ORIGINAL-URL:https://mostradoltremare.it
X-WR-CALDESC:Eventi per Mostra d&#039;Oltremare
REFRESH-INTERVAL;VALUE=DURATION:PT1H
X-Robots-Tag:noindex
X-PUBLISHED-TTL:PT1H
BEGIN:VTIMEZONE
TZID:UTC
BEGIN:STANDARD
TZOFFSETFROM:+0000
TZOFFSETTO:+0000
TZNAME:UTC
DTSTART:20150101T000000
END:STANDARD
END:VTIMEZONE
BEGIN:VEVENT
DTSTART;TZID=UTC:20161119T100000
DTEND;TZID=UTC:20161218T220000
DTSTAMP:20260424T074634
CREATED:20241009T213512Z
LAST-MODIFIED:20241009T213512Z
UID:25919-1479549600-1482098400@mostradoltremare.it
SUMMARY:Santa Claus Village 2016 - 7^ edizione
DESCRIPTION:Vieni a conoscere Babbo Natale ed i suoi nuovi amici: Ciclone\, Saal\, Gomitolino\, Tempesta –  Muppet Show\, Museo del giocattolo\, Mega Albero di Natale\, Artisti di strada\, Area Luna Park presso il Viale 28 Fontane Orari: venerdì 15\,00-22\,00; sabato\, domenica\, 8 e 9 dicembre 10\,00-22\,00 – Orari per le scuole: dal lunedì al giovedì con orario dalle 9\,00 alle 15\,30 Prezzo biglietto Euro 10\,00 – Ingresso gratuito per anziani over 65 e bambini fino a 90 cm di altezza. Convenzioni con Città della Scienza\, Zoo di Napoli e The Space Cinema: promozioni e sconti presentando il biglietto del Santa Claus Village. Ingresso Piazzale Tecchio Organizzazione: GBT srl – Via Orsa Maggiore snc – 80014 Giugliano in Campania (NA) Infoline: 0815092930 – 0815092577 – 3492337606
URL:https://mostradoltremare.it/event/santa-claus-village-2016-7-edizione/
LOCATION:Padiglione 10 e Giardino dei Cedri\, Piazzale Tecchio\, Napoli\, 80125\, Italia
CATEGORIES:Fiera,Spettacolo
ATTACH;FMTTYPE=image/jpeg:https://mostradoltremare.it/wp-content/uploads/2024/10/25919_image_381-santa-claus.jpg
ORGANIZER;CN="Ortopedia Meridionale Zungri":MAILTO:info@ortopediameridionale_it
END:VEVENT
BEGIN:VEVENT
DTSTART;TZID=UTC:20161202T100000
DTEND;TZID=UTC:20161204T183000
DTSTAMP:20260424T074634
CREATED:20241009T214002Z
LAST-MODIFIED:20241009T214002Z
UID:25941-1480672800-1480876200@mostradoltremare.it
SUMMARY:Arkeda 2016 - 4^ edizione
DESCRIPTION:Mostra convegno dell’architettura\, edilizia\, design ed arredo\, riservata agli operatori di settore. Con il patrocinio degli Ordini degli Architetti\, degli Ingegneri\, delle Associazioni di Design e delle Università\, numerosi corsi di aggiornamento con rilascio di crediti formativi\, workshop e dibattiti. Ingresso Viale Kennedy Organizzazione: Progecta s.r.l. www.arkeda.it – info@arkeda.it – tel 0817640032 – fax 0812451769
URL:https://mostradoltremare.it/event/arkeda-2016-4-edizione/
LOCATION:Padiglioni 5 e 6
CATEGORIES:Fiera
ATTACH;FMTTYPE=image/png:https://mostradoltremare.it/wp-content/uploads/2024/10/25941_image_381-Arkeda.png
ORGANIZER;CN="Ortopedia Meridionale Zungri":MAILTO:info@ortopediameridionale_it
END:VEVENT
BEGIN:VEVENT
DTSTART;TZID=UTC:20161202T100000
DTEND;TZID=UTC:20161204T190000
DTSTAMP:20260424T074634
CREATED:20241009T214031Z
LAST-MODIFIED:20241009T214031Z
UID:25945-1480672800-1480878000@mostradoltremare.it
SUMMARY:VideoGameShow 4^ edizione
DESCRIPTION:Vivere il videogioco!È questo lo slogan della manifestazione che unisce esibizioni dei principali YouTuber del settore con tornei\, anteprime\, gioco libero\, retrogame\, e molto altro. VideoGameShow\, un mix esplosivo tra i migliori YouTubers Italiani del gaming\, i più importanti titoli e i migliori tornei! Tre giorni di svago totalmente dedicato al divertimento con il nostro passatempo preferito.
URL:https://mostradoltremare.it/event/videogameshow-4-edizione/
LOCATION:Padiglione 1\, P.le Tecchio\, Napoli\, Italia
CATEGORIES:Fiera
ATTACH;FMTTYPE=image/png:https://mostradoltremare.it/wp-content/uploads/2024/10/25945_image_Videogameshow.png
ORGANIZER;CN="VISIONA SCARL":MAILTO:info@comicon.it
END:VEVENT
END:VCALENDAR