BEGIN:VCALENDAR
VERSION:2.0
PRODID:-//Mostra d&#039;Oltremare - ECPv6.15.20//NONSGML v1.0//EN
CALSCALE:GREGORIAN
METHOD:PUBLISH
X-ORIGINAL-URL:https://mostradoltremare.it
X-WR-CALDESC:Eventi per Mostra d&#039;Oltremare
REFRESH-INTERVAL;VALUE=DURATION:PT1H
X-Robots-Tag:noindex
X-PUBLISHED-TTL:PT1H
BEGIN:VTIMEZONE
TZID:UTC
BEGIN:STANDARD
TZOFFSETFROM:+0000
TZOFFSETTO:+0000
TZNAME:UTC
DTSTART:20150101T000000
END:STANDARD
END:VTIMEZONE
BEGIN:VEVENT
DTSTART;TZID=UTC:20161119T100000
DTEND;TZID=UTC:20161218T220000
DTSTAMP:20260424T074634
CREATED:20241009T213512Z
LAST-MODIFIED:20241009T213512Z
UID:25919-1479549600-1482098400@mostradoltremare.it
SUMMARY:Santa Claus Village 2016 - 7^ edizione
DESCRIPTION:Vieni a conoscere Babbo Natale ed i suoi nuovi amici: Ciclone\, Saal\, Gomitolino\, Tempesta –  Muppet Show\, Museo del giocattolo\, Mega Albero di Natale\, Artisti di strada\, Area Luna Park presso il Viale 28 Fontane Orari: venerdì 15\,00-22\,00; sabato\, domenica\, 8 e 9 dicembre 10\,00-22\,00 – Orari per le scuole: dal lunedì al giovedì con orario dalle 9\,00 alle 15\,30 Prezzo biglietto Euro 10\,00 – Ingresso gratuito per anziani over 65 e bambini fino a 90 cm di altezza. Convenzioni con Città della Scienza\, Zoo di Napoli e The Space Cinema: promozioni e sconti presentando il biglietto del Santa Claus Village. Ingresso Piazzale Tecchio Organizzazione: GBT srl – Via Orsa Maggiore snc – 80014 Giugliano in Campania (NA) Infoline: 0815092930 – 0815092577 – 3492337606
URL:https://mostradoltremare.it/event/santa-claus-village-2016-7-edizione/
LOCATION:Padiglione 10 e Giardino dei Cedri\, Piazzale Tecchio\, Napoli\, 80125\, Italia
CATEGORIES:Fiera,Spettacolo
ATTACH;FMTTYPE=image/jpeg:https://mostradoltremare.it/wp-content/uploads/2024/10/25919_image_381-santa-claus.jpg
ORGANIZER;CN="Ortopedia Meridionale Zungri":MAILTO:info@ortopediameridionale_it
END:VEVENT
BEGIN:VEVENT
DTSTART;TZID=UTC:20161215T100000
DTEND;TZID=UTC:20161217T200000
DTSTAMP:20260424T074634
CREATED:20241009T214403Z
LAST-MODIFIED:20241009T214403Z
UID:25972-1481796000-1482004800@mostradoltremare.it
SUMMARY:Festival della Cucina Napoletana 2016 - 1^ edizione
DESCRIPTION:dal titolo “Pensare usando le mani”\, con l’utilizzo di prodotti tipici Dop IGP e della filiera dell’agroalimentare di qualità della Regione Campania inseriti nel disciplinare delle produzioni tipiche nazionali. Scuola del convivio napoletano\, Show Cooking\, Lab Food Experience\, Kera Lab\, Laboratori di Degustazione\, Design in Tavola. L’ingresso è gratuito registrandosi su: www.festivalcucinanapoletana.it. Ingresso auto Via Terracina\, ingresso pedonale Via J.F. Kennedy. Organizzazione: Associazione Medeaterranea Via Bernini 45 – 80129 Napoli  
URL:https://mostradoltremare.it/event/festival-della-cucina-napoletana-2016-1-edizione/
LOCATION:Sala Marco Polo (Ristorante della Piscina Piano Superiore)
CATEGORIES:Congresso,Fiera,Parco
ATTACH;FMTTYPE=image/png:https://mostradoltremare.it/wp-content/uploads/2024/10/25972_image_festival-cucina.png
ORGANIZER;CN="Suono Libero Music":MAILTO:info@suonoliberomusic_com
END:VEVENT
BEGIN:VEVENT
DTSTART;TZID=UTC:20161217T143000
DTEND;TZID=UTC:20161217T200000
DTSTAMP:20260424T074634
CREATED:20241009T214533Z
LAST-MODIFIED:20241009T214533Z
UID:25977-1481985000-1482004800@mostradoltremare.it
SUMMARY:Spettacolo Istituto Il Cigno
DESCRIPTION:Primo spettacolo ore 14\,30 – secondo spettacolo ore 16\,30 – terzo spettacolo ore 18\,30 Ingresso ad inviti
URL:https://mostradoltremare.it/event/spettacolo-istituto-il-cigno-2/
LOCATION:Teatro Mediterraneo e Piazzale antistante\, Viale J.F.Kennedy 54\, Napoli\, 80125
CATEGORIES:Spettacolo
ATTACH;FMTTYPE=image/png:https://mostradoltremare.it/wp-content/uploads/2024/10/25977_image_732-IL-CIGNO.png
ORGANIZER;CN="Istituto Paritario Il Cigno- Fimar Impresa Sociale srl":MAILTO:scuolailcigno@virgilio.it
END:VEVENT
END:VCALENDAR