BEGIN:VCALENDAR
VERSION:2.0
PRODID:-//Mostra d&#039;Oltremare - ECPv6.15.20//NONSGML v1.0//EN
CALSCALE:GREGORIAN
METHOD:PUBLISH
X-ORIGINAL-URL:https://mostradoltremare.it
X-WR-CALDESC:Eventi per Mostra d&#039;Oltremare
REFRESH-INTERVAL;VALUE=DURATION:PT1H
X-Robots-Tag:noindex
X-PUBLISHED-TTL:PT1H
BEGIN:VTIMEZONE
TZID:UTC
BEGIN:STANDARD
TZOFFSETFROM:+0000
TZOFFSETTO:+0000
TZNAME:UTC
DTSTART:20150101T000000
END:STANDARD
END:VTIMEZONE
BEGIN:VEVENT
DTSTART;TZID=UTC:20161222T173000
DTEND;TZID=UTC:20161222T223000
DTSTAMP:20260424T074633
CREATED:20241009T214704Z
LAST-MODIFIED:20241009T214704Z
UID:25989-1482427800-1482445800@mostradoltremare.it
SUMMARY:Spettacolo di beneficenza a favore di Telefono Azzurro
DESCRIPTION:Commedia in tre atti “Cronaca di una famiglia scombinata” messa in scena dalla Compagnia “Arte Povera” Primo spettacolo ore 17\,30 – Secondo spettacolo ore 20\,30; Biglietto intero: Euro 30\,00 – Biglietto ridotto: Euro 20\,00; Per informazioni ed acquisti: 0815111900-3929623474 Organizzazione Call the best srl – callthebestsrl@gmail.com   Ingresso e parcheggio: Viale Kennedy
URL:https://mostradoltremare.it/event/spettacolo-di-beneficenza-a-favore-di-telefono-azzurro/
LOCATION:Teatro Mediterraneo e Piazzale antistante\, Viale J.F.Kennedy 54\, Napoli\, 80125
CATEGORIES:Spettacolo
ORGANIZER;CN="Suono Libero Music":MAILTO:info@suonoliberomusic_com
END:VEVENT
END:VCALENDAR