BEGIN:VCALENDAR
VERSION:2.0
PRODID:-//Mostra d&#039;Oltremare - ECPv6.15.20//NONSGML v1.0//EN
CALSCALE:GREGORIAN
METHOD:PUBLISH
X-ORIGINAL-URL:https://mostradoltremare.it
X-WR-CALDESC:Eventi per Mostra d&#039;Oltremare
REFRESH-INTERVAL;VALUE=DURATION:PT1H
X-Robots-Tag:noindex
X-PUBLISHED-TTL:PT1H
BEGIN:VTIMEZONE
TZID:UTC
BEGIN:STANDARD
TZOFFSETFROM:+0000
TZOFFSETTO:+0000
TZNAME:UTC
DTSTART:20160101T000000
END:STANDARD
END:VTIMEZONE
BEGIN:VEVENT
DTSTART;TZID=UTC:20170121T183000
DTEND;TZID=UTC:20170122T183000
DTSTAMP:20260424T055936
CREATED:20241008T215806Z
LAST-MODIFIED:20241008T215806Z
UID:25302-1485023400-1485109800@mostradoltremare.it
SUMMARY:Spettacolo CRAL ANM
DESCRIPTION:della Compagnia amatoriale “I FiloTrammatici”\, che mette in scena “Il morto sta bene in salute” di Gaetano Di Maio. Ingresso ad inviti.    
URL:https://mostradoltremare.it/event/spettacolo-cral-anm/
LOCATION:Teatro Mediterraneo e Piazzale antistante\, Viale J.F.Kennedy 54\, Napoli\, 80125
CATEGORIES:Spettacolo
ATTACH;FMTTYPE=image/png:https://mostradoltremare.it/wp-content/uploads/2024/10/25302_image_381-cral-anm.png
ORGANIZER;CN="CRAL%20ANM":MAILTO:cralanm@cralanm_it
END:VEVENT
END:VCALENDAR