BEGIN:VCALENDAR
VERSION:2.0
PRODID:-//Mostra d&#039;Oltremare - ECPv6.15.20//NONSGML v1.0//EN
CALSCALE:GREGORIAN
METHOD:PUBLISH
X-WR-CALNAME:Mostra d&#039;Oltremare
X-ORIGINAL-URL:https://mostradoltremare.it
X-WR-CALDESC:Eventi per Mostra d&#039;Oltremare
REFRESH-INTERVAL;VALUE=DURATION:PT1H
X-Robots-Tag:noindex
X-PUBLISHED-TTL:PT1H
BEGIN:VTIMEZONE
TZID:UTC
BEGIN:STANDARD
TZOFFSETFROM:+0000
TZOFFSETTO:+0000
TZNAME:UTC
DTSTART:20160101T000000
END:STANDARD
END:VTIMEZONE
BEGIN:VEVENT
DTSTART;VALUE=DATE:20170324
DTEND;VALUE=DATE:20170326
DTSTAMP:20260424T025421
CREATED:20241009T215128Z
LAST-MODIFIED:20241009T215128Z
UID:26013-1490313600-1490486399@mostradoltremare.it
SUMMARY:La Festa di Montevergine
DESCRIPTION:di Raffaele Viviani Per info e biglietti: 3356242326   Orario Spettacoli: il venerdì ore 9\,30 e 21\,00 il sabato ore 21\,00 la domenica ore 19\,00
URL:https://mostradoltremare.it/event/la-festa-di-montevergine/
LOCATION:Teatro Mediterraneo e Piazzale antistante\, Viale J.F.Kennedy 54\, Napoli\, 80125
CATEGORIES:Spettacolo
ATTACH;FMTTYPE=image/jpeg:https://mostradoltremare.it/wp-content/uploads/2024/10/26013_image_festa-montevergine.jpg
ORGANIZER;CN="HRD NET SRL":MAILTO:info@hrdonline_it
END:VEVENT
BEGIN:VEVENT
DTSTART;TZID=UTC:20170324T100000
DTEND;TZID=UTC:20170326T150000
DTSTAMP:20260424T025421
CREATED:20241009T215157Z
LAST-MODIFIED:20241009T215157Z
UID:26016-1490349600-1490540400@mostradoltremare.it
SUMMARY:BMT - 21^ edizione
DESCRIPTION:Borsa Mediterranea del Turismo Area Expo\, Workshop\, Convegni\, Presentazioni\, Dibattiti Il venerdì ed il sabato aperta ai soli operatori di settore; la domenica aperta al pubblico. Ingressi : P.le Tecchio\, 50  –  Via J.F. Kennedy\, 54 – 80125 – Napoli. Orari: Venerdì 24 marzo: 10\,00-18\,30 Sabato 25 marzo: 9\,30-18\,30 Domenica 26 marzo: 9\,30-15\,00
URL:https://mostradoltremare.it/event/bmt-21-edizione/
LOCATION:Padiglioni 3B\, 4\, 5\, 6\, P.le Tecchio\,Viale Kennedy 54\, Napoli\, Italia
CATEGORIES:Fiera
ATTACH;FMTTYPE=image/jpeg:https://mostradoltremare.it/wp-content/uploads/2024/10/26016_image_bmt_mostra_2017.jpg
ORGANIZER;CN="PROGECTA SRL":MAILTO:info@progecta.org
END:VEVENT
END:VCALENDAR