BEGIN:VCALENDAR
VERSION:2.0
PRODID:-//Mostra d&#039;Oltremare - ECPv6.15.20//NONSGML v1.0//EN
CALSCALE:GREGORIAN
METHOD:PUBLISH
X-WR-CALNAME:Mostra d&#039;Oltremare
X-ORIGINAL-URL:https://mostradoltremare.it
X-WR-CALDESC:Eventi per Mostra d&#039;Oltremare
REFRESH-INTERVAL;VALUE=DURATION:PT1H
X-Robots-Tag:noindex
X-PUBLISHED-TTL:PT1H
BEGIN:VTIMEZONE
TZID:UTC
BEGIN:STANDARD
TZOFFSETFROM:+0000
TZOFFSETTO:+0000
TZNAME:UTC
DTSTART:20160101T000000
END:STANDARD
END:VTIMEZONE
BEGIN:VEVENT
DTSTART;TZID=UTC:20170406T090000
DTEND;TZID=UTC:20170407T190000
DTSTAMP:20260424T013119
CREATED:20241009T215429Z
LAST-MODIFIED:20241009T215429Z
UID:26039-1491469200-1491591600@mostradoltremare.it
SUMMARY:Innovation Village 2017 - 2^ edizione
DESCRIPTION:La manifestazione che mette in contatto chi produce\, chi programma e chi utilizza innovazione. Settori tematici: Mobilità\, Internet delle cose\, Biomedicale\, Energia\, Robotica\, Salute\, Economia del mare\, Beni Culturali\, Ambiente\, Fintech\, Innovazione Sociale\, Agricoltura. Area espositiva\, B2B e R2B\, incontri\, workshop\, eventi speciali – Ingresso Viale Kennedy   Organizzazione: Knowledge for business s.r.l. Via Coroglio 104 – 80124 Napoli – tel 081-18995358  
URL:https://mostradoltremare.it/event/innovation-village-2017-2-edizione/
LOCATION:Padiglione 6\, Viale Kennedy 54 e P.le Tecchio –  Napoli\, 80125
CATEGORIES:Fiera
ATTACH;FMTTYPE=image/png:https://mostradoltremare.it/wp-content/uploads/2024/10/26039_image_Innovation-village.png
ORGANIZER;CN="Knowledge%20for%20Business%20srl":MAILTO:innovationvillage@kforbusiness_it
END:VEVENT
END:VCALENDAR