BEGIN:VCALENDAR
VERSION:2.0
PRODID:-//Mostra d&#039;Oltremare - ECPv6.15.20//NONSGML v1.0//EN
CALSCALE:GREGORIAN
METHOD:PUBLISH
X-WR-CALNAME:Mostra d&#039;Oltremare
X-ORIGINAL-URL:https://mostradoltremare.it
X-WR-CALDESC:Eventi per Mostra d&#039;Oltremare
REFRESH-INTERVAL;VALUE=DURATION:PT1H
X-Robots-Tag:noindex
X-PUBLISHED-TTL:PT1H
BEGIN:VTIMEZONE
TZID:UTC
BEGIN:STANDARD
TZOFFSETFROM:+0000
TZOFFSETTO:+0000
TZNAME:UTC
DTSTART:20160101T000000
END:STANDARD
END:VTIMEZONE
BEGIN:VEVENT
DTSTART;TZID=UTC:20170408T100000
DTEND;TZID=UTC:20170409T203000
DTSTAMP:20260424T013118
CREATED:20241009T215511Z
LAST-MODIFIED:20241009T215511Z
UID:26045-1491645600-1491769800@mostradoltremare.it
SUMMARY:Fiera del Baratto e dell'Usato 2017 - Edizione primaverile
DESCRIPTION:42^ edizione dell’evento dedicato alla cultura del riciclo. Piccolo antiquariato\, modernariato\, artigianato manufatto\, collezionismo e di tutto di più.  \nIngresso Piazzale Tecchio   Biglietto Euro 5\,00 Gratis per bambini under 12 ed anziani over 70  
URL:https://mostradoltremare.it/event/fiera-del-baratto-e-dellusato-2017-edizione-primaverile/
LOCATION:Padiglioni 1\, 2\, 3\, 3B\, area Merchandising\, Piazzale Tecchio\, Napoli\, 80125
CATEGORIES:Fiera
ATTACH;FMTTYPE=image/png:https://mostradoltremare.it/wp-content/uploads/2024/10/26045_image_732x381-baratto-8-9-aprile.png
ORGANIZER;CN="Bidonville 2.0 sas di Consiglia Auletta":MAILTO:bidon@bidonville.org
END:VEVENT
END:VCALENDAR