BEGIN:VCALENDAR
VERSION:2.0
PRODID:-//Mostra d&#039;Oltremare - ECPv6.15.20//NONSGML v1.0//EN
CALSCALE:GREGORIAN
METHOD:PUBLISH
X-ORIGINAL-URL:https://mostradoltremare.it
X-WR-CALDESC:Eventi per Mostra d&#039;Oltremare
REFRESH-INTERVAL;VALUE=DURATION:PT1H
X-Robots-Tag:noindex
X-PUBLISHED-TTL:PT1H
BEGIN:VTIMEZONE
TZID:UTC
BEGIN:STANDARD
TZOFFSETFROM:+0000
TZOFFSETTO:+0000
TZNAME:UTC
DTSTART:20160101T000000
END:STANDARD
END:VTIMEZONE
BEGIN:VEVENT
DTSTART;TZID=UTC:20170421T210000
DTEND;TZID=UTC:20170421T230000
DTSTAMP:20260424T013117
CREATED:20241009T215601Z
LAST-MODIFIED:20241009T215601Z
UID:26053-1492808400-1492815600@mostradoltremare.it
SUMMARY:Concerto del Blue Gospel Singers Choir
DESCRIPTION:dal titolo “Blue come….” Info per biglietti: 3392359132
URL:https://mostradoltremare.it/event/concerto-del-blue-gospel-singers-choir/
LOCATION:Teatro Mediterraneo e Piazzale antistante\, Viale J.F.Kennedy 54\, Napoli\, 80125
CATEGORIES:Spettacolo
ATTACH;FMTTYPE=image/jpeg:https://mostradoltremare.it/wp-content/uploads/2024/10/26053_image_732-blue-gospel.jpg
ORGANIZER;CN="Associazione Culturale Blue Gospel Singers Choir":MAILTO:thebluegospelsingers@gmail_com
END:VEVENT
END:VCALENDAR