BEGIN:VCALENDAR
VERSION:2.0
PRODID:-//Mostra d&#039;Oltremare - ECPv6.15.20//NONSGML v1.0//EN
CALSCALE:GREGORIAN
METHOD:PUBLISH
X-WR-CALNAME:Mostra d&#039;Oltremare
X-ORIGINAL-URL:https://mostradoltremare.it
X-WR-CALDESC:Eventi per Mostra d&#039;Oltremare
REFRESH-INTERVAL;VALUE=DURATION:PT1H
X-Robots-Tag:noindex
X-PUBLISHED-TTL:PT1H
BEGIN:VTIMEZONE
TZID:UTC
BEGIN:STANDARD
TZOFFSETFROM:+0000
TZOFFSETTO:+0000
TZNAME:UTC
DTSTART:20160101T000000
END:STANDARD
END:VTIMEZONE
BEGIN:VEVENT
DTSTART;TZID=UTC:20170428T100000
DTEND;TZID=UTC:20170501T190000
DTSTAMP:20260423T234906
CREATED:20241009T215624Z
LAST-MODIFIED:20241009T215624Z
UID:26056-1493373600-1493665200@mostradoltremare.it
SUMMARY:Comicon 2017 - 19^ edizione
DESCRIPTION:Salone Internazionale del Fumetto. Area Editori Fumetto\, Area Distributori Fumetterie\, Mostre\, Premiazioni\, Area Gioco\, Area Videogioco\, Neverland Gioco dal Vivo\, Asian Village\, CartooNa\, Cosplay Challenge Kids\, Laboratori\, Concerti …….   Prezzi biglietti: Euro 11\,00 biglietto intero; Euro 7\,00 under 12 ed over 65 (esclusi diritti di prevendita). Biglietti acquistabili presso le prevendite del circuito Go2 ed online su: www.go2.it e www.comicon.it gratuito per bambini under 6 e disabili in sedia a rotelle ed accompagnatore. I biglietti sono nominativi. Per info e dettagli: 0814238127 – info@comicon.it   Per i gruppi: prenotazioni da effettuarsi alla casella  gruppi@comicon.it  
URL:https://mostradoltremare.it/event/comicon-2017-19-edizione/
LOCATION:Padiglioni 1\,2\,3\,3B\,4\,5\,6\,10\, aree esterne\, Sala Italia\, Teatro Mediterraneo\, Viale Kennedy e Piazzale Tecchio\, Napoli\, 80125
CATEGORIES:Fiera
ATTACH;FMTTYPE=image/jpeg:https://mostradoltremare.it/wp-content/uploads/2024/10/26056_image_comicon_2017_mostra_oltremare.jpg
ORGANIZER;CN="VISIONA SCARL":MAILTO:info@comicon.it
END:VEVENT
END:VCALENDAR