BEGIN:VCALENDAR
VERSION:2.0
PRODID:-//Mostra d&#039;Oltremare - ECPv6.15.20//NONSGML v1.0//EN
CALSCALE:GREGORIAN
METHOD:PUBLISH
X-ORIGINAL-URL:https://mostradoltremare.it
X-WR-CALDESC:Eventi per Mostra d&#039;Oltremare
REFRESH-INTERVAL;VALUE=DURATION:PT1H
X-Robots-Tag:noindex
X-PUBLISHED-TTL:PT1H
BEGIN:VTIMEZONE
TZID:UTC
BEGIN:STANDARD
TZOFFSETFROM:+0000
TZOFFSETTO:+0000
TZNAME:UTC
DTSTART:20160101T000000
END:STANDARD
END:VTIMEZONE
BEGIN:VEVENT
DTSTART;TZID=UTC:20170506T090000
DTEND;TZID=UTC:20170507T180000
DTSTAMP:20260423T235003
CREATED:20241010T135807Z
LAST-MODIFIED:20241010T135807Z
UID:26180-1494061200-1494180000@mostradoltremare.it
SUMMARY:Siferr 2017 - 1^ edizione
DESCRIPTION:Salone rivolto alle imprese e dedicato alla ferramenta\, all’utensileria\, ai colori ed alla rubinetteria.  \n 
URL:https://mostradoltremare.it/event/siferr-2017-1-edizione/
LOCATION:Padiglioni 5 e 6
CATEGORIES:Fiera
ATTACH;FMTTYPE=image/jpeg:https://mostradoltremare.it/wp-content/uploads/2024/10/26180_image_siferr.jpg
ORGANIZER;CN="MA.MU. Marketing Multimediale SRL":MAILTO:eventi@iferronline.com
END:VEVENT
END:VCALENDAR