BEGIN:VCALENDAR
VERSION:2.0
PRODID:-//Mostra d&#039;Oltremare - ECPv6.15.20//NONSGML v1.0//EN
CALSCALE:GREGORIAN
METHOD:PUBLISH
X-WR-CALNAME:Mostra d&#039;Oltremare
X-ORIGINAL-URL:https://mostradoltremare.it
X-WR-CALDESC:Eventi per Mostra d&#039;Oltremare
REFRESH-INTERVAL;VALUE=DURATION:PT1H
X-Robots-Tag:noindex
X-PUBLISHED-TTL:PT1H
BEGIN:VTIMEZONE
TZID:UTC
BEGIN:STANDARD
TZOFFSETFROM:+0000
TZOFFSETTO:+0000
TZNAME:UTC
DTSTART:20160101T000000
END:STANDARD
END:VTIMEZONE
BEGIN:VEVENT
DTSTART;TZID=UTC:20170512T130000
DTEND;TZID=UTC:20170514T220000
DTSTAMP:20260423T235003
CREATED:20241010T140020Z
LAST-MODIFIED:20241010T140020Z
UID:26191-1494594000-1494799200@mostradoltremare.it
SUMMARY:International Tattoo Fest Napoli 2017 - 2^ edizione
DESCRIPTION:Body Art\, Body Modification\, Intrattenimento\, Concerti\, Punti Ristoro. Ingresso Piazzale Tecchio Orari manifestazione:  \nVenerdì dalle 13\,00 alle 23\,00Sabato dalle 12\,00 alle 23\,00Domenica dalle 12\,00 alle 22\,00 \nPrezzi: Abbonamento 3 giorni = Euro 31\,00 Biglietto giornaliero = Euro 16\,00 Disponibili presso le prevendite del circuito Etes – www.etes.it
URL:https://mostradoltremare.it/event/international-tattoo-fest-napoli-2017-2-edizione/
LOCATION:Padiglione 10 e Giardino dei Cedri\, Piazzale Tecchio\, Napoli\, 80125\, Italia
CATEGORIES:Fiera
ATTACH;FMTTYPE=image/png:https://mostradoltremare.it/wp-content/uploads/2024/10/26191_image_Napoli_international_tatoo_mostra_oltremare.png
ORGANIZER;CN="INTERNATIONAL%20TATTOO%20NAPOLI%20S.R.L.":MAILTO:info@tattoofestnapoli_com
END:VEVENT
BEGIN:VEVENT
DTSTART;TZID=UTC:20170513T100000
DTEND;TZID=UTC:20170514T140000
DTSTAMP:20260423T235003
CREATED:20241010T140102Z
LAST-MODIFIED:20241010T140102Z
UID:26197-1494669600-1494770400@mostradoltremare.it
SUMMARY:Antiquari in Mostra 2017
DESCRIPTION:Esposizione e vendita di oggetti di artigianato da parte di privati appassionati del genere. Orari: Sabato 13 maggio dalle 10\,00 alle 20\,00 Domenica 14 maggio dalle 10\,00 alle 14\,00  
URL:https://mostradoltremare.it/event/antiquari-in-mostra-2017-3/
CATEGORIES:Fiera
ATTACH;FMTTYPE=image/png:https://mostradoltremare.it/wp-content/uploads/2024/10/26005_image_antiquari.png
ORGANIZER;CN="Bidonville 2.0 sas di Consiglia Auletta":MAILTO:bidon@bidonville.org
END:VEVENT
BEGIN:VEVENT
DTSTART;TZID=UTC:20170513T100000
DTEND;TZID=UTC:20170514T190000
DTSTAMP:20260423T235003
CREATED:20241010T140122Z
LAST-MODIFIED:20241010T140122Z
UID:26199-1494669600-1494788400@mostradoltremare.it
SUMMARY:Napoli Bike Festival 2017 - 6^ edizione
DESCRIPTION:Appuntamento di rilevanza nazionale dedicato alla promozione della cultura della bicicletta: il 12 maggio presso Galleria Principe di Napoli e quartieri cittadini\, il 13 e 14 maggio presso Mostra d’Oltremare. Area expo\, concorso Bike Designers\, spettacoli\, area kids\, pump-track challenge\, Bike tour per tutte le difficoltà\, Ciclofficina. Ingresso: Viale Kennedy  
URL:https://mostradoltremare.it/event/napoli-bike-festival-2017-6-edizione/
LOCATION:Aree esterne
CATEGORIES:Fiera
ATTACH;FMTTYPE=image/jpeg:https://mostradoltremare.it/wp-content/uploads/2024/10/26199_image_381-bike-festival.jpg
ORGANIZER;CN="ASD NAPOLI PEDALA":MAILTO:info@napolibikefestival_it
END:VEVENT
END:VCALENDAR