BEGIN:VCALENDAR
VERSION:2.0
PRODID:-//Mostra d&#039;Oltremare - ECPv6.15.20//NONSGML v1.0//EN
CALSCALE:GREGORIAN
METHOD:PUBLISH
X-ORIGINAL-URL:https://mostradoltremare.it
X-WR-CALDESC:Eventi per Mostra d&#039;Oltremare
REFRESH-INTERVAL;VALUE=DURATION:PT1H
X-Robots-Tag:noindex
X-PUBLISHED-TTL:PT1H
BEGIN:VTIMEZONE
TZID:UTC
BEGIN:STANDARD
TZOFFSETFROM:+0000
TZOFFSETTO:+0000
TZNAME:UTC
DTSTART:20160101T000000
END:STANDARD
END:VTIMEZONE
BEGIN:VEVENT
DTSTART;TZID=UTC:20170522T100000
DTEND;TZID=UTC:20170524T190000
DTSTAMP:20260423T235002
CREATED:20241010T140628Z
LAST-MODIFIED:20241010T140628Z
UID:26220-1495447200-1495652400@mostradoltremare.it
SUMMARY:Tutto Pizza 2017 - 2^ edizione
DESCRIPTION:La più completa fiera sul mondo della pizza riservata agli operatori di settore. Area expo\, Trofeo Tuttopizza\, Corso di A.P.P.\, Gala’ della Pizza Gourmet\, Museo della Pizza\, Area Pizza Show\, Convegni\, Laboratori Ingresso Piazzale Tecchio
URL:https://mostradoltremare.it/event/tutto-pizza-2017-2-edizione/
LOCATION:Padiglione 1\, Piazzale Tecchio\, Napoli\, 80125
CATEGORIES:Fiera
ATTACH;FMTTYPE=image/jpeg:https://mostradoltremare.it/wp-content/uploads/2024/10/26220_image_381-Tuttopizza2017.jpg
ORGANIZER;CN="Squisito Eventi srls":MAILTO:info@tuttopizzaexpo.com
END:VEVENT
END:VCALENDAR