BEGIN:VCALENDAR
VERSION:2.0
PRODID:-//Mostra d&#039;Oltremare - ECPv6.15.20//NONSGML v1.0//EN
CALSCALE:GREGORIAN
METHOD:PUBLISH
X-ORIGINAL-URL:https://mostradoltremare.it
X-WR-CALDESC:Eventi per Mostra d&#039;Oltremare
REFRESH-INTERVAL;VALUE=DURATION:PT1H
X-Robots-Tag:noindex
X-PUBLISHED-TTL:PT1H
BEGIN:VTIMEZONE
TZID:UTC
BEGIN:STANDARD
TZOFFSETFROM:+0000
TZOFFSETTO:+0000
TZNAME:UTC
DTSTART:20160101T000000
END:STANDARD
END:VTIMEZONE
BEGIN:VEVENT
DTSTART;TZID=UTC:20170525T083000
DTEND;TZID=UTC:20170527T140000
DTSTAMP:20260423T235002
CREATED:20241010T140707Z
LAST-MODIFIED:20241010T140707Z
UID:26228-1495701000-1495893600@mostradoltremare.it
SUMMARY:XXVI Congresso Nazionale AIUG (Associazione Italiana di Urologia Ginecologica e del Pavimento Pelvico)
DESCRIPTION:Topics: Soluzioni chirurgiche innovative\, riabilitazione post partum\, dolore pelvico\, incontinenza\, menopausa\, prolasso.   Orari congresso: giovedì dalle 8\,30 alle 20\,30 – venerdì dalle 8\,30 alle 19\,00 – sabato dalle 8\,30 alle 14\,00   Ingresso auto Via Terracina – Ingresso pedonale Via Marconi  
URL:https://mostradoltremare.it/event/xxvi-congresso-nazionale-aiug-associazione-italiana-di-urologia-ginecologica-e-del-pavimento-pelvico/
LOCATION:Palacongressi e Giardino dei Pini\, Via Terracina\, Napoli\, 80125
CATEGORIES:Congresso
ATTACH;FMTTYPE=image/jpeg:https://mostradoltremare.it/wp-content/uploads/2024/10/26228_image_381-AIUG-nazionale.jpg
ORGANIZER;CN="ADRIA CONGREX SRL":MAILTO:info@adriacongrex_it
END:VEVENT
END:VCALENDAR