BEGIN:VCALENDAR
VERSION:2.0
PRODID:-//Mostra d&#039;Oltremare - ECPv6.15.20//NONSGML v1.0//EN
CALSCALE:GREGORIAN
METHOD:PUBLISH
X-WR-CALNAME:Mostra d&#039;Oltremare
X-ORIGINAL-URL:https://mostradoltremare.it
X-WR-CALDESC:Eventi per Mostra d&#039;Oltremare
REFRESH-INTERVAL;VALUE=DURATION:PT1H
X-Robots-Tag:noindex
X-PUBLISHED-TTL:PT1H
BEGIN:VTIMEZONE
TZID:UTC
BEGIN:STANDARD
TZOFFSETFROM:+0000
TZOFFSETTO:+0000
TZNAME:UTC
DTSTART:20160101T000000
END:STANDARD
END:VTIMEZONE
BEGIN:VEVENT
DTSTART;TZID=UTC:20170601T210000
DTEND;TZID=UTC:20170606T230000
DTSTAMP:20260423T221457
CREATED:20241010T140941Z
LAST-MODIFIED:20241010T140941Z
UID:26246-1496350800-1496790000@mostradoltremare.it
SUMMARY:Spettacoli di danza Artgarage
DESCRIPTION:Orario inizio spettacoli: 1 giugno ore 21\,00 2 giugno ore 20\,30 3 giugno ore 20\,30 4 giugno ore 19\,00 5 giugno ore 19\,30 6 giugno ore 19\,30
URL:https://mostradoltremare.it/event/spettacoli-di-danza-artgarage-2/
LOCATION:Teatro Mediterraneo e Piazzale antistante\, Viale J.F.Kennedy 54\, Napoli\, 80125
CATEGORIES:Spettacoli
ATTACH;FMTTYPE=image/png:https://mostradoltremare.it/wp-content/uploads/2024/10/26246_image_artgarage_logo-2.png
ORGANIZER;CN="ARTGARAGE SAS":MAILTO:info@artgarage.it
END:VEVENT
BEGIN:VEVENT
DTSTART;TZID=UTC:20170602T213000
DTEND;TZID=UTC:20170602T233000
DTSTAMP:20260423T221457
CREATED:20241010T141000Z
LAST-MODIFIED:20241010T141000Z
UID:26249-1496439000-1496446200@mostradoltremare.it
SUMMARY:Cine-concerto Harry Potter e la pietra filosofale
DESCRIPTION:Gli 80 elementi dell’Orchestra Italiana del Cinema eseguiranno dal vivo la colonna sonora composta da John Williams\, mentre le immagini e i dialoghi saranno proiettati in sincrono sullo schermo. Prezzi biglietti: Cavea bassa VIP: Euro 150\,00 Cavea bassa Premium: Euro 89\,00 Cavea bassa Gold: Euro 79\,00 Cavea alta numerata: Euro 55\,00 Panoramica: Euro 35\,00 Biglietti in vendita nelle prevendite dei circuiti Etes e Ticketone
URL:https://mostradoltremare.it/event/cine-concerto-harry-potter-e-la-pietra-filosofale/
LOCATION:ARENA FLEGREA\, Via Terracina 197\, Napoli\, 80125
CATEGORIES:Spettacoli
ATTACH;FMTTYPE=image/jpeg:https://mostradoltremare.it/wp-content/uploads/2024/10/26249_image_hp2giugno_big.jpg
ORGANIZER;CN="Come on Web srl":MAILTO:info@etes.it
END:VEVENT
END:VCALENDAR