BEGIN:VCALENDAR
VERSION:2.0
PRODID:-//Mostra d&#039;Oltremare - ECPv6.15.20//NONSGML v1.0//EN
CALSCALE:GREGORIAN
METHOD:PUBLISH
X-ORIGINAL-URL:https://mostradoltremare.it
X-WR-CALDESC:Eventi per Mostra d&#039;Oltremare
REFRESH-INTERVAL;VALUE=DURATION:PT1H
X-Robots-Tag:noindex
X-PUBLISHED-TTL:PT1H
BEGIN:VTIMEZONE
TZID:UTC
BEGIN:STANDARD
TZOFFSETFROM:+0000
TZOFFSETTO:+0000
TZNAME:UTC
DTSTART:20160101T000000
END:STANDARD
END:VTIMEZONE
BEGIN:VEVENT
DTSTART;TZID=UTC:20170609T180000
DTEND;TZID=UTC:20170618T230000
DTSTAMP:20260423T221502
CREATED:20241010T142204Z
LAST-MODIFIED:20241010T142204Z
UID:26256-1497031200-1497826800@mostradoltremare.it
SUMMARY:Fiera della Casa 2017 - 60^ edizione
DESCRIPTION:Un centro commerciale ordinato e organizzato nel cuore della città\, nel quale far vivere l’intera famiglia: arredamento\, complementi d’arredo\, arredo giardino\, antiquariato\, casalinghi\, oggettistica\, prodotti tipici\, sapori\, tempo libero\, giochi\, servizi\, spettacoli dal vivo\, ruota panoramica “Piazza Energia” al pad. 3B a cura dell’ANEA (Agenzia Napoletana Energia ed Ambiente); Expo Auto d’Epoca al pad.3; Area Baby Parking al pad.4 10 giorni da vivere intensamente\, con numerose iniziative intorno alle quali far ruotare i vari segmenti espositivi tradizionalmente legati alla Fiera della Casa. Inoltre\, perché tutti possano partecipare a questa festa della città\, tutti i giorni ingresso gratuito! Spettacoli: 9 giugno Rosalia Porcaro\, 11 giugno Valentina Stella\, 12 giugno Gianni Mobilya\, 13 giugno Omaggio alla lirica e al cinema italiano\, 14 giugno Andrea Sannino\, 15 giugno Los Locos\, 16 giugno Ciccio Merolla\, 17 giugno Francesco Cicchella\, 18 giugno Simone Schettino. Presenta Anna Brancati. Presentazioni di libri: 9 giugno “Il frammento” di e con Marco Marzocca\, 10 giugno “Napoli. La città\, la squadra\, gli eroi: dai primi idoli a Maradona”\, 11 giugno “La chiameremo vita” di e con Franco De Luca\, 14 giugno “Allah\, San Gennaro e i tre kamikaze” di e con Pino Imperatore. Performance di danza: 9 giugno Hip Hop al Palco centrale\, 11\, 13 e 16 giugno Tango al Cubo d’Oro\, 15 giugno Danza latino Americana al Palco centrale Orari:dal lunedì al venerdì = 18\,00-23\,00sabato e domenica = 11\,00-24\,00
URL:https://mostradoltremare.it/event/fiera-della-casa-2017-60-edizione/
LOCATION:Aree esterne\, padiglioni 1\,2\,3\,3B\,4\,10\, Piazzale Tecchio\, Napoli\, 80125
CATEGORIES:Fiera
ATTACH;FMTTYPE=image/jpeg:https://mostradoltremare.it/wp-content/uploads/2024/10/26256_image_fiera_della_casa_2017_evento.jpg
ORGANIZER;CN="Mostra%20d%27Oltremare%20-%20Area%20Sviluppo%20%26%20Facilities":MAILTO:fieradellacasa@mostradoltremare_it
END:VEVENT
BEGIN:VEVENT
DTSTART;TZID=UTC:20170617T190000
DTEND;TZID=UTC:20170617T233000
DTSTAMP:20260423T221502
CREATED:20241010T142346Z
LAST-MODIFIED:20241010T142346Z
UID:26270-1497726000-1497742200@mostradoltremare.it
SUMMARY:Saggio di danza ASD Dance to Win
DESCRIPTION:Ingresso ad inviti
URL:https://mostradoltremare.it/event/saggio-di-danza-asd-dance-to-win-4/
LOCATION:Teatro Mediterraneo e Piazzale antistante\, Viale J.F.Kennedy 54\, Napoli\, 80125
CATEGORIES:Spettacoli
ATTACH;FMTTYPE=image/jpeg:https://mostradoltremare.it/wp-content/uploads/2024/10/20696_image_dance-to-win.jpg
ORGANIZER;CN="ASD DANCE TO WIN":MAILTO:dancetowin@libero_it
END:VEVENT
END:VCALENDAR