BEGIN:VCALENDAR
VERSION:2.0
PRODID:-//Mostra d&#039;Oltremare - ECPv6.15.20//NONSGML v1.0//EN
CALSCALE:GREGORIAN
METHOD:PUBLISH
X-WR-CALNAME:Mostra d&#039;Oltremare
X-ORIGINAL-URL:https://mostradoltremare.it
X-WR-CALDESC:Eventi per Mostra d&#039;Oltremare
REFRESH-INTERVAL;VALUE=DURATION:PT1H
X-Robots-Tag:noindex
X-PUBLISHED-TTL:PT1H
BEGIN:VTIMEZONE
TZID:UTC
BEGIN:STANDARD
TZOFFSETFROM:+0000
TZOFFSETTO:+0000
TZNAME:UTC
DTSTART:20160101T000000
END:STANDARD
END:VTIMEZONE
BEGIN:VEVENT
DTSTART;TZID=UTC:20170621T193000
DTEND;TZID=UTC:20170621T233000
DTSTAMP:20260423T221457
CREATED:20241010T142433Z
LAST-MODIFIED:20241010T142433Z
UID:26274-1498073400-1498087800@mostradoltremare.it
SUMMARY:Saggio di Danza Accademia Emozioni in punta di piedi
DESCRIPTION:Ingresso ad inviti
URL:https://mostradoltremare.it/event/saggio-di-danza-accademia-emozioni-in-punta-di-piedi/
LOCATION:Teatro Mediterraneo e Piazzale antistante\, Viale J.F.Kennedy 54\, Napoli\, 80125
CATEGORIES:Spettacoli
ATTACH;FMTTYPE=image/jpeg:https://mostradoltremare.it/wp-content/uploads/2024/10/26274_image_logo-emozioni.jpg
ORGANIZER;CN="ASD Emozioni in punta di piedi":MAILTO:info@emozioniinpuntadipiedi_it
END:VEVENT
END:VCALENDAR