BEGIN:VCALENDAR
VERSION:2.0
PRODID:-//Mostra d&#039;Oltremare - ECPv6.15.20//NONSGML v1.0//EN
CALSCALE:GREGORIAN
METHOD:PUBLISH
X-WR-CALNAME:Mostra d&#039;Oltremare
X-ORIGINAL-URL:https://mostradoltremare.it
X-WR-CALDESC:Eventi per Mostra d&#039;Oltremare
REFRESH-INTERVAL;VALUE=DURATION:PT1H
X-Robots-Tag:noindex
X-PUBLISHED-TTL:PT1H
BEGIN:VTIMEZONE
TZID:UTC
BEGIN:STANDARD
TZOFFSETFROM:+0000
TZOFFSETTO:+0000
TZNAME:UTC
DTSTART:20160101T000000
END:STANDARD
END:VTIMEZONE
BEGIN:VEVENT
DTSTART;TZID=UTC:20170710T190000
DTEND;TZID=UTC:20170710T230000
DTSTAMP:20260423T203426
CREATED:20241010T143111Z
LAST-MODIFIED:20241010T143111Z
UID:26305-1499713200-1499727600@mostradoltremare.it
SUMMARY:Gran Galà del Volley Campano
DESCRIPTION:Le eccellenze della Pallavolo campane della stagione 2016-2017 saranno premiate nel corso della manifestazione
URL:https://mostradoltremare.it/event/gran-gala-del-volley-campano/
LOCATION:Sala Italia\, Viale Kennedy 54\, Napoli\, 80125
CATEGORIES:Congresso
ATTACH;FMTTYPE=image/jpeg:https://mostradoltremare.it/wp-content/uploads/2024/10/26305_image_381-volley-gala.jpg
ORGANIZER;CN="CR FIPAV CAMPANIA":MAILTO:campania@federvolley_it
END:VEVENT
END:VCALENDAR