BEGIN:VCALENDAR
VERSION:2.0
PRODID:-//Mostra d&#039;Oltremare - ECPv6.15.20//NONSGML v1.0//EN
CALSCALE:GREGORIAN
METHOD:PUBLISH
X-ORIGINAL-URL:https://mostradoltremare.it
X-WR-CALDESC:Eventi per Mostra d&#039;Oltremare
REFRESH-INTERVAL;VALUE=DURATION:PT1H
X-Robots-Tag:noindex
X-PUBLISHED-TTL:PT1H
BEGIN:VTIMEZONE
TZID:UTC
BEGIN:STANDARD
TZOFFSETFROM:+0000
TZOFFSETTO:+0000
TZNAME:UTC
DTSTART:20160101T000000
END:STANDARD
END:VTIMEZONE
BEGIN:VEVENT
DTSTART;TZID=UTC:20170712T183000
DTEND;TZID=UTC:20170712T235900
DTSTAMP:20260423T203533
CREATED:20241010T143145Z
LAST-MODIFIED:20241010T143145Z
UID:26310-1499884200-1499903940@mostradoltremare.it
SUMMARY:Saggio di Danza Ilaria Ballet
DESCRIPTION:ingresso ad inviti  
URL:https://mostradoltremare.it/event/saggio-di-danza-ilaria-ballet/
LOCATION:Teatro Mediterraneo e Piazzale antistante\, Viale J.F.Kennedy 54\, Napoli\, 80125
CATEGORIES:Spettacoli
ATTACH;FMTTYPE=image/jpeg:https://mostradoltremare.it/wp-content/uploads/2024/10/26310_image_ilaria-ballet.jpg
ORGANIZER;CN="CR FIPAV CAMPANIA":MAILTO:campania@federvolley_it
END:VEVENT
END:VCALENDAR