BEGIN:VCALENDAR
VERSION:2.0
PRODID:-//Mostra d&#039;Oltremare - ECPv6.15.20//NONSGML v1.0//EN
CALSCALE:GREGORIAN
METHOD:PUBLISH
X-ORIGINAL-URL:https://mostradoltremare.it
X-WR-CALDESC:Eventi per Mostra d&#039;Oltremare
REFRESH-INTERVAL;VALUE=DURATION:PT1H
X-Robots-Tag:noindex
X-PUBLISHED-TTL:PT1H
BEGIN:VTIMEZONE
TZID:UTC
BEGIN:STANDARD
TZOFFSETFROM:+0000
TZOFFSETTO:+0000
TZNAME:UTC
DTSTART:20160101T000000
END:STANDARD
END:VTIMEZONE
BEGIN:VEVENT
DTSTART;TZID=UTC:20170714T210000
DTEND;TZID=UTC:20170714T235900
DTSTAMP:20260423T203424
CREATED:20241010T143342Z
LAST-MODIFIED:20241010T143342Z
UID:26314-1500066000-1500076740@mostradoltremare.it
SUMMARY:Jarabedepalo en Concierto 20 años
DESCRIPTION:La band celebra i 20 anni dalla pubblicazione del primo cd La Flaca ed ha immaginato di festeggiarlo con un concerto elettrico\, con tutta la band e con un repertorio ampio e vario\, che comprende tutti i grandi successi de Jarabedepalo in questi anni.  \nPrezzo biglietti:– cavea bassa Euro 25\,00– cavea alta: Euro 15\,00Apertura cancelli: ore 19\,00
URL:https://mostradoltremare.it/event/jarabedepalo-en-concierto-20-anos/
LOCATION:ARENA FLEGREA\, Via Terracina 197\, Napoli\, 80125
CATEGORIES:Spettacoli
ATTACH;FMTTYPE=image/jpeg:https://mostradoltremare.it/wp-content/uploads/2024/10/26314_image_jarabe-de-palo.jpg
ORGANIZER;CN="Come on Web srl":MAILTO:info@etes.it
END:VEVENT
END:VCALENDAR