BEGIN:VCALENDAR
VERSION:2.0
PRODID:-//Mostra d&#039;Oltremare - ECPv6.15.20//NONSGML v1.0//EN
CALSCALE:GREGORIAN
METHOD:PUBLISH
X-WR-CALNAME:Mostra d&#039;Oltremare
X-ORIGINAL-URL:https://mostradoltremare.it
X-WR-CALDESC:Eventi per Mostra d&#039;Oltremare
REFRESH-INTERVAL;VALUE=DURATION:PT1H
X-Robots-Tag:noindex
X-PUBLISHED-TTL:PT1H
BEGIN:VTIMEZONE
TZID:UTC
BEGIN:STANDARD
TZOFFSETFROM:+0000
TZOFFSETTO:+0000
TZNAME:UTC
DTSTART:20160101T000000
END:STANDARD
END:VTIMEZONE
BEGIN:VEVENT
DTSTART;TZID=UTC:20170720T210000
DTEND;TZID=UTC:20170720T230000
DTSTAMP:20260423T203427
CREATED:20241010T143400Z
LAST-MODIFIED:20241010T143400Z
UID:26317-1500584400-1500591600@mostradoltremare.it
SUMMARY:NEK in "Unici in Tour"
DESCRIPTION:Gli indimenticabili successi della sua carriera ed i brani del nuovo album. Biglietti in vendita dal 15 dicembre 2016 presso i circuiti ETES (www.etes.it) e TICKETONE (www.ticketone.it) Prezzi: Cavea Bassa Gold Numerata = Euro 59\,00 Cavea Bassa Numerata = Euro 49\,00 Cavea Alta Numerata = Euro 39\,00 Cavea Alta Non Numerata = Euro 29\,00 Apertura cancelli ore 19\,00
URL:https://mostradoltremare.it/event/nek-in-unici-in-tour/
LOCATION:ARENA FLEGREA\, Via Terracina 197\, Napoli\, 80125
CATEGORIES:Spettacoli
ATTACH;FMTTYPE=image/jpeg:https://mostradoltremare.it/wp-content/uploads/2024/10/26317_image_732-nek.jpg
ORGANIZER;CN="Come on Web srl":MAILTO:info@etes.it
END:VEVENT
END:VCALENDAR