BEGIN:VCALENDAR
VERSION:2.0
PRODID:-//Mostra d&#039;Oltremare - ECPv6.15.20//NONSGML v1.0//EN
CALSCALE:GREGORIAN
METHOD:PUBLISH
X-ORIGINAL-URL:https://mostradoltremare.it
X-WR-CALDESC:Eventi per Mostra d&#039;Oltremare
REFRESH-INTERVAL;VALUE=DURATION:PT1H
X-Robots-Tag:noindex
X-PUBLISHED-TTL:PT1H
BEGIN:VTIMEZONE
TZID:UTC
BEGIN:STANDARD
TZOFFSETFROM:+0000
TZOFFSETTO:+0000
TZNAME:UTC
DTSTART:20160101T000000
END:STANDARD
END:VTIMEZONE
BEGIN:VEVENT
DTSTART;TZID=UTC:20170929T160000
DTEND;TZID=UTC:20171107T200000
DTSTAMP:20260423T154350
CREATED:20241010T144238Z
LAST-MODIFIED:20241010T144238Z
UID:26347-1506700800-1510084800@mostradoltremare.it
SUMMARY:Corso di formazione A.N.P.A.N.A.F.M.C.
DESCRIPTION:Per aspiranti guardie zoofile ed ambientali da adibire alla vigilanza ambientale e di protezione civile\, organizzato dalla Associazione Nazionale Protezione Animali Natura Ambiente Fondali Marini Cittadini. I corsi si svolgono nelle seguenti date: 29 settembre\, 3 ottobre\, 10 ottobre\, 13 ottobre\, 17 ottobre\, 20 ottobre\, 24 ottobre\, 27 ottobre\, 31 ottobre\, 3 novembre\, 7 novembre 2017
URL:https://mostradoltremare.it/event/corso-di-formazione-a-n-p-a-n-a-f-m-c/
LOCATION:Cubo d’Oro\, Viale Kennedy 54\, Napoli
CATEGORIES:Concorsi
ORGANIZER;CN="ANPANAFMC":MAILTO:presidentenazionale_anpanafmc@gmail_com
END:VEVENT
BEGIN:VEVENT
DTSTART;TZID=UTC:20171021T103000
DTEND;TZID=UTC:20171029T223000
DTSTAMP:20260423T154350
CREATED:20241010T150826Z
LAST-MODIFIED:20241010T150826Z
UID:26375-1508581800-1509316200@mostradoltremare.it
SUMMARY:Tuttosposi 2017 - 29^ edizione
DESCRIPTION:La più grande Fiera consumer d’Italia dedicata ai prodotti ed ai servizi per il mondo del wedding: abiti per gli sposi\, location per ricevimenti\, fotografi\, acconciatori\, visagisti\, viaggi di nozze. Per l’accesso alle sfilate di Alta Moda Sposa presso il Palasposa (pad.5) è necessario chiedere gli inviti agli atelier di riferimento. Il 24 ottobre ore 16\,00 Miss Tuttosposi presso il Palasposa (pad.5). Orari = dal lunedì al venerdì 16\,30-21\,30; sabato e domenica 10\,30-22\,30 Ingressi: Piazzale Tecchio e Viale Kennedy Prezzi biglietti = dal lunedì al venerdì:  Euro 2\,50; – Per i bambini fino a 12 anni e per le coppie che hanno attivato la Privilege Card: ingresso gratuito;  sabato e domenica: Euro 8\,00;  – Per l’ingresso entro le ore 15\,00: Euro 5\,00;  – Per bambini fino a 12 anni e per le coppie che hanno attivato la Privilege Card: ingresso gratuito Abbonamento valido tutti i giorni: Euro 15\,00 Programma della Manifestazione ed attivazione della Privilege Card su www.tuttosposi.it  
URL:https://mostradoltremare.it/event/tuttosposi-2017-29-edizione/
LOCATION:Padiglioni 1-2-3-4-5\, Piazzale Tecchio\, Viale Kennedy\, Napoli\, 80125
CATEGORIES:Fiera
ATTACH;FMTTYPE=image/jpeg:https://mostradoltremare.it/wp-content/uploads/2024/10/26375_image_tuttosposi-2017.jpg
ORGANIZER;CN="OFI%20SRL%20UNIPERSONALE":MAILTO:segreteria@tuttosposi_it
END:VEVENT
BEGIN:VEVENT
DTSTART;TZID=UTC:20171027T110000
DTEND;TZID=UTC:20171029T210000
DTSTAMP:20260423T154350
CREATED:20241010T151348Z
LAST-MODIFIED:20241010T151348Z
UID:26378-1509102000-1509310800@mostradoltremare.it
SUMMARY:Canapa in Mostra 2017 - 4^ edizione
DESCRIPTION:Fiera internazionale della canapa industriale e medica. Venerdì 27 ottobre ore 15\,00: Seminario “Green R-evolution 4”. Sabato 28 ottobre ore 14\,30: Seminario “Open Day ICBS (Italian Cannabis Business School)”. Domenica 29 ottobre ore 13\,00: Presentazione del II volume di “Canapa in Tesi”\, raccolta di ricerche scientifiche ed universitarie di autori provenienti da tutta l’Italia\, con il sostegno della Italian Cannabis Business School ed il patrocinio morale del Dipartimento di Agraria dell’Università di Napoli. Orari: Venerdì e Sabato dalle 11\,00 alle 20\,00 – Domenica dalle 12\,00 alle 21\,00. L’Area Giardino dei Cedri per la Music Station è aperta fino alle 23\,30. Prezzi biglietti\, acquistabili online su www.go2.it: -ingresso giornaliero: Euro 8\,00 + diritti di prevendita -ingresso giornaliero ridotto per anziani over 65 e per gli accompagnatori dei disabili: Euro 5\,00 + diritti di prevendita -abbonamento 3 giorni: Euro 15\,00 + diritti di prevendita -bambini fino a 12 anni e disabili: ingresso gratuito  
URL:https://mostradoltremare.it/event/canapa-in-mostra-2017-4-edizione/
LOCATION:Padiglione 10 e Giardino dei Cedri\, Piazzale Tecchio\, Napoli\, 80125\, Italia
CATEGORIES:Fiera
ATTACH;FMTTYPE=image/png:https://mostradoltremare.it/wp-content/uploads/2024/10/26378_image_canapa-in-mostra-2017.png
ORGANIZER;CN="Associazione%20Canapa%20in%20Mostra":MAILTO:info@canapainmostra_it
END:VEVENT
END:VCALENDAR