BEGIN:VCALENDAR
VERSION:2.0
PRODID:-//Mostra d&#039;Oltremare - ECPv6.15.20//NONSGML v1.0//EN
CALSCALE:GREGORIAN
METHOD:PUBLISH
X-ORIGINAL-URL:https://mostradoltremare.it
X-WR-CALDESC:Eventi per Mostra d&#039;Oltremare
REFRESH-INTERVAL;VALUE=DURATION:PT1H
X-Robots-Tag:noindex
X-PUBLISHED-TTL:PT1H
BEGIN:VTIMEZONE
TZID:UTC
BEGIN:STANDARD
TZOFFSETFROM:+0000
TZOFFSETTO:+0000
TZNAME:UTC
DTSTART:20160101T000000
END:STANDARD
END:VTIMEZONE
BEGIN:VEVENT
DTSTART;TZID=UTC:20171201T090000
DTEND;TZID=UTC:20171217T200000
DTSTAMP:20260423T122305
CREATED:20241014T101151Z
LAST-MODIFIED:20241014T101151Z
UID:26806-1512118800-1513540800@mostradoltremare.it
SUMMARY:BRICKLIVE 2017 - 1^ edizione
DESCRIPTION:Built for Lego Fans. Fiera del Lego. Un immenso spazio pensato per tutta la famiglia. Bricklive è l’occasione per tutti  i fans dei mattoncini Lego di liberare la propria fantasia. Un mondo unico fatto da milioni di mattoncini colorati\, inclusi i formati Duplo\, con Lego morbidi e sicuri. Verranno come ospiti i migliori costruttori di strutture Lego al mondo. Infoline manifestazione: 0112632323 Orari di apertura: 9\,00-20\,00; solo di sabato e l’8 dicembre: 10\,00-21\,00 – Ingresso Piazzale Tecchio Prezzi biglietti: –biglietto intero: Euro 14\,00 + diritti di prevendita –biglietto ridotto per disabili\, anziani over 65 e bambini dai 3 ai 12 anni: Euro 12\,00 + diritti di prevendita –abbonamento 5 ingressi: Euro 49\,00 + diritti di prevendita –Speciale Promo (acquistabili sia online che al botteghino di Piazzale Tecchio): Family Pack 3 Persone=Euro 25\,00 + diritti di prevendita; Family Pack 4 Persone=Euro 32\,00 + diritti di prevendita. Infoline biglietteria 0818038382
URL:https://mostradoltremare.it/event/bricklive-2017-1-edizione/
LOCATION:Padiglione 10\, Piazzale Tecchio\, Napoli\, 80125
CATEGORIES:Fiera
ATTACH;FMTTYPE=image/png:https://mostradoltremare.it/wp-content/uploads/2024/10/26806_image_bricklivelogo.png
ORGANIZER;CN="VEBOFIERA SRL":MAILTO:info@vebofiera.com
END:VEVENT
BEGIN:VEVENT
DTSTART;TZID=UTC:20171206T150000
DTEND;TZID=UTC:20180107T210000
DTSTAMP:20260423T122305
CREATED:20241014T101358Z
LAST-MODIFIED:20241014T101358Z
UID:26819-1512572400-1515358800@mostradoltremare.it
SUMMARY:Napoli Christmas Festival
DESCRIPTION:Mostra d’Oltremare di Napoli\, insieme a New Edenlandia\, ha organizzato un grosso evento per Natale. Più di un mese di attrazioni a tema natalizio nella cornice magica della Mostra e con le suggestioni emozionanti degli artisti di Edenlandia e ha deciso di regalare alla città un incipit a questa nuova era in grande stile. Giostre\, intrattenimento\, mercatino\, food and drink. Area espositiva a cura di D2 Eventi. Il costo del biglietto è di 5 Euro\, all’interno del quale è compreso un giro gratuito in una delle 30 giostre.E possibile acquistare i biglietto on line oppure presso le rivendite del circuito ETES\, oppure presso le biglietterie di Mostra d’Oltremare. Ingressi:  Viale Kennedy\, Via Usodimare. Orari: Scarica il calendario completo con i relativi orari Contatti: per le scuole: segreteria@napolichristmasfestival.com per area stand espositivi: 0815512317 per intrattenimento: 3665890107; info@napolichristmasfestival.com per stampa: stampa@napolichristmasfestival.com  
URL:https://mostradoltremare.it/event/napoli-christmas-festival/
LOCATION:Cubo d’Oro\, area Laghetto Fasilides\, Viale delle Palme\, Viale Kennedy e Via Usodimare\, Napoli\, 80125
CATEGORIES:Fiera
ATTACH;FMTTYPE=image/png:https://mostradoltremare.it/wp-content/uploads/2024/10/26819_image_Evento_Napoli_Christamas_Festival.png
ORGANIZER;CN="Mostra d'Oltremare-New Edenlandia-D2 Eventi":MAILTO:info@napolichristmasfestival_it
END:VEVENT
BEGIN:VEVENT
DTSTART;TZID=UTC:20171214T093000
DTEND;TZID=UTC:20171215T173000
DTSTAMP:20260423T122305
CREATED:20241014T101444Z
LAST-MODIFIED:20241014T101444Z
UID:26825-1513243800-1513359000@mostradoltremare.it
SUMMARY:Smau Napoli 2017 - 5^ edizione
DESCRIPTION:Information & Communication Technology. Soluzioni a servizio delle imprese e della P.A. Le iscrizioni ai workshop\, da effettuarsi sul sito www.smau.it\, vengono aperte il 5 dicembre 2017. Ingresso Viale Kennedy
URL:https://mostradoltremare.it/event/smau-napoli-2017-5-edizione/
LOCATION:Padiglione 5\, viale Kennedy 54\, Napoli\, NA\, 80125
CATEGORIES:Fiera
ATTACH;FMTTYPE=image/png:https://mostradoltremare.it/wp-content/uploads/2024/10/26825_image_smau-napoli2017.png
ORGANIZER;CN="Smau Servizi s.r.l.":MAILTO:contact@smau_it
END:VEVENT
BEGIN:VEVENT
DTSTART;TZID=UTC:20171215T100000
DTEND;TZID=UTC:20171215T140000
DTSTAMP:20260423T122305
CREATED:20241014T101508Z
LAST-MODIFIED:20241014T101508Z
UID:26829-1513332000-1513346400@mostradoltremare.it
SUMMARY:Concorso per Dirigenti Medici di Anestesia e Rianimazione
DESCRIPTION:Prova scritta Concorso pubblico\, per titoli e colloquio\, per la copertura di n.20 posti di Dirigente Medico di Anestesia e Rianimazione
URL:https://mostradoltremare.it/event/concorso-per-dirigenti-medici-di-anestesia-e-rianimazione/
LOCATION:Padiglione 1 Sala F\, Ingresso Piazzale Tecchio\, Napoli\, 80125
CATEGORIES:Concorsi
ORGANIZER;CN="Mostra d'Oltremare-New Edenlandia-D2 Eventi":MAILTO:info@napolichristmasfestival_it
END:VEVENT
END:VCALENDAR