BEGIN:VCALENDAR
VERSION:2.0
PRODID:-//Mostra d&#039;Oltremare - ECPv6.15.20//NONSGML v1.0//EN
CALSCALE:GREGORIAN
METHOD:PUBLISH
X-ORIGINAL-URL:https://mostradoltremare.it
X-WR-CALDESC:Eventi per Mostra d&#039;Oltremare
REFRESH-INTERVAL;VALUE=DURATION:PT1H
X-Robots-Tag:noindex
X-PUBLISHED-TTL:PT1H
BEGIN:VTIMEZONE
TZID:UTC
BEGIN:STANDARD
TZOFFSETFROM:+0000
TZOFFSETTO:+0000
TZNAME:UTC
DTSTART:20170101T000000
END:STANDARD
END:VTIMEZONE
BEGIN:VEVENT
DTSTART;TZID=UTC:20180126T100000
DTEND;TZID=UTC:20180128T180000
DTSTAMP:20260423T103832
CREATED:20241008T205048Z
LAST-MODIFIED:20241008T205048Z
UID:24821-1516960800-1517162400@mostradoltremare.it
SUMMARY:Exvapo 2018 - 2^ edizione
DESCRIPTION:Fiera internazionale dedicata al mondo delle sigarette elettroniche e prodotti per fumatori. Ingresso gratuito previa registrazione. Il venerdì 26 gennaio ingresso esclusivamente per le aziende. Il sabato 27 gennaio e la domenica 28 gennaio ingresso per il pubblico. Orari apertura: il 26 gennaio dalle 10\,00 alle 18\,30 – il 27 e 28 gennaio dalle 10\,00 alle 20\,00 Ingresso Viale Kennedy  
URL:https://mostradoltremare.it/event/exvapo-2018-2-edizione/
LOCATION:Padiglione 6
CATEGORIES:Fiera
ATTACH;FMTTYPE=image/jpeg:https://mostradoltremare.it/wp-content/uploads/2024/10/24821_image_2018-exvapo-1.jpg
ORGANIZER;CN="Atohm Service srls":MAILTO:info@exvapo_com
END:VEVENT
BEGIN:VEVENT
DTSTART;TZID=UTC:20180127T203000
DTEND;TZID=UTC:20180127T233000
DTSTAMP:20260423T103832
CREATED:20241008T205207Z
LAST-MODIFIED:20241008T205207Z
UID:24830-1517085000-1517095800@mostradoltremare.it
SUMMARY:Un Mondo di Solidarietà 2018 - 10^ edizione
DESCRIPTION:Charity Show a favore del Progetto di Cooperazione Internazionale “All inclusive”\, intervento multisettoriale  a supporto dell’integrazione delle persone con disabilità nella regione di Dar es Salaam\, Tanzania. Spettacolo promosso dall’Associazione di Volontariato PUER\, col Patrocinio del Comune di Napoli – Assessorato alla Cultura ed Assessorato ai Giovani. Madrina Maria Grazia Cucinotta. Presentano Maria Mazza e Peppe Iodice.
URL:https://mostradoltremare.it/event/un-mondo-di-solidarieta-2018-10-edizione/
LOCATION:Teatro Mediterraneo e Piazzale antistante\, Viale J.F.Kennedy 54\, Napoli\, 80125
CATEGORIES:Spettacolo
ATTACH;FMTTYPE=image/jpeg:https://mostradoltremare.it/wp-content/uploads/2024/10/24830_image_un-mondo-di-solidarieta-2018.jpg
ORGANIZER;CN="Associazione%20per%20la%20Buona%20Sanit%C3%A0%20L%27Ancora":MAILTO:info@buonasanita_it
END:VEVENT
END:VCALENDAR