BEGIN:VCALENDAR
VERSION:2.0
PRODID:-//Mostra d&#039;Oltremare - ECPv6.15.20//NONSGML v1.0//EN
CALSCALE:GREGORIAN
METHOD:PUBLISH
X-WR-CALNAME:Mostra d&#039;Oltremare
X-ORIGINAL-URL:https://mostradoltremare.it
X-WR-CALDESC:Eventi per Mostra d&#039;Oltremare
REFRESH-INTERVAL;VALUE=DURATION:PT1H
X-Robots-Tag:noindex
X-PUBLISHED-TTL:PT1H
BEGIN:VTIMEZONE
TZID:UTC
BEGIN:STANDARD
TZOFFSETFROM:+0000
TZOFFSETTO:+0000
TZNAME:UTC
DTSTART:20170101T000000
END:STANDARD
END:VTIMEZONE
BEGIN:VEVENT
DTSTART;TZID=UTC:20180405T093000
DTEND;TZID=UTC:20180407T180000
DTSTAMP:20260423T053221
CREATED:20241008T205739Z
LAST-MODIFIED:20241008T205739Z
UID:24880-1522920600-1523124000@mostradoltremare.it
SUMMARY:Innovation Village 2018 - 3^ edizione
DESCRIPTION:Il network degli innovatori. Area espositiva\, sezione School Village\, Agorà Orari manifestazione: giovedì e venerdì dalle 9\,30 alle 19\,00 – sabato dalle 9\,30 alle 18\,00. Programma convegni su www.innovationvillage.it Accesso con accredito online o registrazione in fiera. Ingresso Viale Kennedy
URL:https://mostradoltremare.it/event/innovation-village-2018-3-edizione/
LOCATION:Padiglione  5\, Viale Kennedy 54\, Napoli\, 80125
CATEGORIES:Fiera
ATTACH;FMTTYPE=image/png:https://mostradoltremare.it/wp-content/uploads/2024/10/24880_image_INNOVATION-VILLAGE-2018.png
ORGANIZER;CN="Knowledge%20for%20Business%20srl":MAILTO:innovationvillage@kforbusiness_it
END:VEVENT
BEGIN:VEVENT
DTSTART;TZID=UTC:20180405T093000
DTEND;TZID=UTC:20180407T180000
DTSTAMP:20260423T053221
CREATED:20241008T205801Z
LAST-MODIFIED:20241008T205801Z
UID:24884-1522920600-1523124000@mostradoltremare.it
SUMMARY:Energymed 2018 - 11^ edizione
DESCRIPTION:Mostra Convegno sulle Fonti Rinnovabili con quattro sezioni dedicate:  all’efficienza energetica “EnerEfficiency”\, al riciclo “Recycle”\, alla mobilità sostenibile “Mobility” e all’automazione “Automation”. Accesso mediante registrazione online o in fiera. Ingresso Viale Kennedy Orari apertura manifestazione: giovedì e venerdì dalle 9\,30 alle 19\,00 – sabato dalle 9\,30 alle 18\,00. Programma convegni consultabile su www.energymed.it  
URL:https://mostradoltremare.it/event/energymed-2018-11-edizione/
LOCATION:Padiglioni 4 e 6\, Viale J.F.Kennedy 54\, Napoli\, 80125
CATEGORIES:Fiera
ATTACH;FMTTYPE=image/jpeg:https://mostradoltremare.it/wp-content/uploads/2024/10/24884_image_energymed-2018.jpg
ORGANIZER;CN="ANEA Agenzia Napoletana Energia e Ambiente":MAILTO:info@energymed_it
END:VEVENT
END:VCALENDAR