BEGIN:VCALENDAR
VERSION:2.0
PRODID:-//Mostra d&#039;Oltremare - ECPv6.15.20//NONSGML v1.0//EN
CALSCALE:GREGORIAN
METHOD:PUBLISH
X-ORIGINAL-URL:https://mostradoltremare.it
X-WR-CALDESC:Eventi per Mostra d&#039;Oltremare
REFRESH-INTERVAL;VALUE=DURATION:PT1H
X-Robots-Tag:noindex
X-PUBLISHED-TTL:PT1H
BEGIN:VTIMEZONE
TZID:UTC
BEGIN:STANDARD
TZOFFSETFROM:+0000
TZOFFSETTO:+0000
TZNAME:UTC
DTSTART:20170101T000000
END:STANDARD
END:VTIMEZONE
BEGIN:VEVENT
DTSTART;TZID=UTC:20180419T103000
DTEND;TZID=UTC:20180421T203000
DTSTAMP:20260423T053218
CREATED:20241008T210112Z
LAST-MODIFIED:20241008T210112Z
UID:24903-1524133800-1524342600@mostradoltremare.it
SUMMARY:Tutto è possibile\, io ci credo
DESCRIPTION:Convention Tecnocasa -19 e 20 aprile presso la Sala Italia\, h.10\,30-18\,30 -21 aprile presso Teatro Mediterraneo\, h.15\,30-20\,30
URL:https://mostradoltremare.it/event/tutto-e-possibile-io-ci-credo/
LOCATION:Sala Italia e Teatro Mediterraneo\, Viale Kennedy 54\, Napoli\, 80125\, Italia
CATEGORIES:Congresso
ATTACH;FMTTYPE=image/jpeg:https://mostradoltremare.it/wp-content/uploads/2024/10/24903_image_per-sito-bolina-invito.jpg
ORGANIZER;CN="AIL%20NAPOLI%20SEZIONE%20BRUNO%20ROTOLI":MAILTO:info@ailnapoli_it
END:VEVENT
END:VCALENDAR