BEGIN:VCALENDAR
VERSION:2.0
PRODID:-//Mostra d&#039;Oltremare - ECPv6.15.20//NONSGML v1.0//EN
CALSCALE:GREGORIAN
METHOD:PUBLISH
X-ORIGINAL-URL:https://mostradoltremare.it
X-WR-CALDESC:Eventi per Mostra d&#039;Oltremare
REFRESH-INTERVAL;VALUE=DURATION:PT1H
X-Robots-Tag:noindex
X-PUBLISHED-TTL:PT1H
BEGIN:VTIMEZONE
TZID:UTC
BEGIN:STANDARD
TZOFFSETFROM:+0000
TZOFFSETTO:+0000
TZNAME:UTC
DTSTART:20170101T000000
END:STANDARD
END:VTIMEZONE
BEGIN:VEVENT
DTSTART;TZID=UTC:20180428T100000
DTEND;TZID=UTC:20180501T190000
DTSTAMP:20260423T053219
CREATED:20241008T210208Z
LAST-MODIFIED:20241008T210208Z
UID:24911-1524909600-1525201200@mostradoltremare.it
SUMMARY:Comicon 2018 - 20^ edizione
DESCRIPTION:Salone Internazionale del Fumetto: area espositiva fumetti\, mostre\, incontri\, premiazioni\, giochi e videogiochi\, concerti Asian Village\, Cosplay Challenge\, cinema e proiezioni Cartoona. Il 30 aprile ore 20\,30 concerto gratuito dei Foja per i 20 anni di Comicon\, dal titolo “IlluStazioni” presso l’Arena Flegrea\, con ingresso gratuito fino ad esaurimento posti. Prezzi: -abbonamento 4 giorni (esauriti): Euro 24\,00 + diritti di prevendita -biglietto giornaliero: Euro 11\,50 + diritti di prevendita -biglietto bambini dai 6 ai 12 anni: Euro 7\,50 + diritti di prevendita CONDIZIONI DI ACQUISTO dei titoli di ingresso alla edizione 2018 di “COMICON”:Acquistando l’abbonamento (valido per i 4 giorni)\, il biglietto giornaliero o usufruendo di un titolodi servizio\, l’utente accetta integralmente il regolamento per la partecipazione all’evento(disponibile sui siti www.comicon.it e www.go2.it) e manleva esplicitamente l’organizzatore (Visiona scarl)da ogni e qualsiasi responsabilità per danni\, furti\, lesioni o altro imprevisto e imprevedibile. Ilbiglietto della manifestazione è NOMINATIVO e valido SOLO ED ESCLUSIVAMENTE se accompagnato da un documento di riconoscimento con foto (carta d’identità\, patente\, passaporto) che andrà esibito al momento dell’ingresso e ogni volta che viene richiesto dal personale di controllo. È consentito l’utilizzo sostitutivo di copie fotostatiche solo seperfettamente leggibili. È VIETATO L’INGRESSO SENZA DOCUMENTO di riconoscimento; intal caso si verrà allontanati dalla Manifestazione senza che sia rimborsato il prezzo del bigliettoe/o dell’abbonamento. IL BIGLIETTO/ ABBONAMENTO NON È IN ALCUN CASORIMBORSABILE. Solo per gli ABBONAMENTI acquistati on line\, E SOLO UNA VOLTA\, saràpossibile modificare il nominativo ENTRO 6 APRILE 2018\, inviando una mail all’indirizzobiglietticomicon@go2.it. I titoli di ingresso acquistati presso il circuito delle rivendite NON SIPOTRANNO MAI MODIFICARE in nessun caso. Infoline 0818038382. Orario: 10\,00-19\,00 Ingressi: -Piazzale Tecchio e Via Terracina: per biglietti giornalieri\, abbonamenti ed accrediti; -Viale Kennedy varco carraio: per accrediti ed auto con conducente già munito di biglietto; -Viale Kennedy Parco Robinson: esclusivamente abbonamenti. Per informazioni: 0814238127
URL:https://mostradoltremare.it/event/comicon-2018-20-edizione/
LOCATION:Padiglioni 1\,2\,3\,3B\,4\,5\,6\,10\, aree esterne\, Sala Italia\, Teatro Mediterraneo\, Viale Kennedy e Piazzale Tecchio\, Napoli\, 80125
CATEGORIES:Fiera
ATTACH;FMTTYPE=image/jpeg:https://mostradoltremare.it/wp-content/uploads/2024/10/24911_image_732-381comicon.jpg
ORGANIZER;CN="VISIONA SCARL":MAILTO:info@comicon.it
END:VEVENT
END:VCALENDAR