BEGIN:VCALENDAR
VERSION:2.0
PRODID:-//Mostra d&#039;Oltremare - ECPv6.15.20//NONSGML v1.0//EN
CALSCALE:GREGORIAN
METHOD:PUBLISH
X-WR-CALNAME:Mostra d&#039;Oltremare
X-ORIGINAL-URL:https://mostradoltremare.it
X-WR-CALDESC:Eventi per Mostra d&#039;Oltremare
REFRESH-INTERVAL;VALUE=DURATION:PT1H
X-Robots-Tag:noindex
X-PUBLISHED-TTL:PT1H
BEGIN:VTIMEZONE
TZID:UTC
BEGIN:STANDARD
TZOFFSETFROM:+0000
TZOFFSETTO:+0000
TZNAME:UTC
DTSTART:20170101T000000
END:STANDARD
END:VTIMEZONE
BEGIN:VEVENT
DTSTART;TZID=UTC:20180505T153000
DTEND;TZID=UTC:20180505T200000
DTSTAMP:20260423T034503
CREATED:20241008T210257Z
LAST-MODIFIED:20241008T210257Z
UID:24915-1525534200-1525550400@mostradoltremare.it
SUMMARY:Me Contro Te - Meet and Greet
DESCRIPTION:Incontro con i “Me contro te” con foto e saluto.Biglietti d’ingresso esauriti. Per accedere al palco bisogna seguire le indicazioni del presentatore e sul video. L’ordine di ingresso al palco avviene in gruppi ed in base alla data di acquisto: quindi si inizia a partire dagli acquisti del 12/04 e poi a seguire con quelli del 13/04\, ecc.L’evento si svolgerà con una animazione iniziale con dj & speaker e poi si passerà alla presentazione di “Sofì e Luì” che\, dopo i saluti\, canteranno le loro 2 canzoni.A seguire\, l’incontro vero e proprio con i fan. Per l’incontro diretto con Sofì e Lui si faranno foto di 4 / 5 persone alla volta con un fotografo ufficiale; poi le foto saranno disponibili sulla seguente pagina ufficiale dell’evento\, entro un paio di giorni successivi alla manifestazione:  https://www.facebook.com/events/418855925206972/https://www.facebook.com/Musikandance/ Il merchandising dei “ME CONTRO TE” sarà presente solo all’interno della Mostra d’Oltremare. Magliette ed altro materiale acquistati all’esterno non saranno considerati ufficiali.
URL:https://mostradoltremare.it/event/me-contro-te-meet-and-greet/
LOCATION:Laghetto Fasilides e Viale delle Palme\, Viale Kennedy 54\, Napoli\, 80125
CATEGORIES:Spettacolo
ATTACH;FMTTYPE=image/jpeg:https://mostradoltremare.it/wp-content/uploads/2024/10/24915_image_5-maggio-1.jpg
ORGANIZER;CN="ASD%20Attenti%20al%20cane":MAILTO:info@asdattentialcane_it
END:VEVENT
END:VCALENDAR