BEGIN:VCALENDAR
VERSION:2.0
PRODID:-//Mostra d&#039;Oltremare - ECPv6.15.20//NONSGML v1.0//EN
CALSCALE:GREGORIAN
METHOD:PUBLISH
X-ORIGINAL-URL:https://mostradoltremare.it
X-WR-CALDESC:Eventi per Mostra d&#039;Oltremare
REFRESH-INTERVAL;VALUE=DURATION:PT1H
X-Robots-Tag:noindex
X-PUBLISHED-TTL:PT1H
BEGIN:VTIMEZONE
TZID:UTC
BEGIN:STANDARD
TZOFFSETFROM:+0000
TZOFFSETTO:+0000
TZNAME:UTC
DTSTART:20170101T000000
END:STANDARD
END:VTIMEZONE
BEGIN:VEVENT
DTSTART;TZID=UTC:20180511T103000
DTEND;TZID=UTC:20180513T193000
DTSTAMP:20260423T034500
CREATED:20241008T210352Z
LAST-MODIFIED:20241008T210352Z
UID:24922-1526034600-1526239800@mostradoltremare.it
SUMMARY:Motor Experience 2018
DESCRIPTION:Auto\, supercar\, moto\, veicoli d’epoca\, Ecotech Mobility\, 4×4\, Show. Programma su www.motorexperience.it Ingressi: Piazzale Tecchio e Viale Kennedy. Orario: dalle 10\,30 alle 19\,30 Prezzi: intero venerdì Euro 9\,00 intero sabato e domenica Euro 13\,00 ridotto ragazzi da 11 a 15 anni Euro 8\,00 gratuito per bambini fino a 10 anni e per accompagnatore portatore di handicap
URL:https://mostradoltremare.it/event/motor-experience-2018/
LOCATION:Esterni\, padiglioni 3\,3B\,5 e 6\, Viale Kennedy 54 e Piazzale Tecchio\, Napoli\, 80125
CATEGORIES:Fiera
ATTACH;FMTTYPE=image/png:https://mostradoltremare.it/wp-content/uploads/2024/10/24922_image_MOTOREXPERIENCE_EXPO-1.png
ORGANIZER;CN="MGF%20Events%20Management%20srls":MAILTO:info@motorexperience_it
END:VEVENT
END:VCALENDAR