BEGIN:VCALENDAR
VERSION:2.0
PRODID:-//Mostra d&#039;Oltremare - ECPv6.15.20//NONSGML v1.0//EN
CALSCALE:GREGORIAN
METHOD:PUBLISH
X-WR-CALNAME:Mostra d&#039;Oltremare
X-ORIGINAL-URL:https://mostradoltremare.it
X-WR-CALDESC:Eventi per Mostra d&#039;Oltremare
REFRESH-INTERVAL;VALUE=DURATION:PT1H
X-Robots-Tag:noindex
X-PUBLISHED-TTL:PT1H
BEGIN:VTIMEZONE
TZID:UTC
BEGIN:STANDARD
TZOFFSETFROM:+0000
TZOFFSETTO:+0000
TZNAME:UTC
DTSTART:20170101T000000
END:STANDARD
END:VTIMEZONE
BEGIN:VEVENT
DTSTART;TZID=UTC:20180516T083000
DTEND;TZID=UTC:20180519T130000
DTSTAMP:20260423T034503
CREATED:20241008T210443Z
LAST-MODIFIED:20241008T210443Z
UID:24928-1526459400-1526734800@mostradoltremare.it
SUMMARY:105° Congresso Nazionale S.I.O. Società Italiana Otorinolaringoiatria e chirurgia cervico-facciale
DESCRIPTION:Letture\, Tavole Rotonde\, Simposi e Comunicazioni che daranno spazio al confronto tra Scuole nazionali ed estere su tutte le tematiche della Specialità. Per i giovani:  Corsi di base ed avanzati\, sessioni “tutorial” di video-chirurgia\, incontri informali con docenti esperti. Orari Congresso: 16 maggio dalle 8\,30 alle 14\,00 17 maggio dalle 8\,30 alle 19\,00 18 maggio dalle 8\,30 alle 17\,00 19 maggio dalle 8\,30 alle 13\,00 Ingressi: pedonale Piazzale Tecchio – auto Via Terracina
URL:https://mostradoltremare.it/event/105-congresso-nazionale-s-i-o-societa-italiana-otorinolaringoiatria-e-chirurgia-cervico-facciale/
LOCATION:Palacongressi e Giardino dei Pini\, Via Terracina\, Napoli\, 80125
CATEGORIES:Congresso
ATTACH;FMTTYPE=image/jpeg:https://mostradoltremare.it/wp-content/uploads/2024/10/24928_image_sio2018-congresso.jpg
ORGANIZER;CN="Meet%20and%20Work%20srl":MAILTO:sio2018@meetandwork_com
END:VEVENT
BEGIN:VEVENT
DTSTART;TZID=UTC:20180516T200000
DTEND;TZID=UTC:20180516T230000
DTSTAMP:20260423T034503
CREATED:20241008T210501Z
LAST-MODIFIED:20241008T210501Z
UID:24932-1526500800-1526511600@mostradoltremare.it
SUMMARY:Saggio Associazione Danza & Danza
DESCRIPTION:
URL:https://mostradoltremare.it/event/saggio-associazione-danza-danza/
LOCATION:Teatro Mediterraneo e Sala Italia\, Viale Kennedy 54\, Napoli\, 80125\, Italia
CATEGORIES:Spettacolo
ORGANIZER;CN="Associazione%20Danza%20%26%20Danza":MAILTO:palcoscenicotg@hotmail_it
END:VEVENT
END:VCALENDAR