BEGIN:VCALENDAR
VERSION:2.0
PRODID:-//Mostra d&#039;Oltremare - ECPv6.15.20//NONSGML v1.0//EN
CALSCALE:GREGORIAN
METHOD:PUBLISH
X-ORIGINAL-URL:https://mostradoltremare.it
X-WR-CALDESC:Eventi per Mostra d&#039;Oltremare
REFRESH-INTERVAL;VALUE=DURATION:PT1H
X-Robots-Tag:noindex
X-PUBLISHED-TTL:PT1H
BEGIN:VTIMEZONE
TZID:UTC
BEGIN:STANDARD
TZOFFSETFROM:+0000
TZOFFSETTO:+0000
TZNAME:UTC
DTSTART:20170101T000000
END:STANDARD
END:VTIMEZONE
BEGIN:VEVENT
DTSTART;TZID=UTC:20180521T100000
DTEND;TZID=UTC:20180523T190000
DTSTAMP:20260423T034500
CREATED:20241008T210618Z
LAST-MODIFIED:20241008T210618Z
UID:24939-1526896800-1527102000@mostradoltremare.it
SUMMARY:Tuttopizza 2018 - 3^ edizione
DESCRIPTION:Salone internazionale della pizza.  Manifestazione B2B  riservata agli operatori di settore. Area Expo\, Trofei e Premiazioni\, Museo della Pizza\, Corsi di Aggiornamento. Il 23 maggio dalle ore 17\,00\, nell’area scoperta antistante il Teatro Mediterraneo\, si proverà ad entrare nel Guinness dei primati\, realizzando la pizza fritta più grande del mondo. Ingresso Piazzale Tecchio
URL:https://mostradoltremare.it/event/tuttopizza-2018-3-edizione/
LOCATION:Padiglioni 1-2\, Piazzale Tecchio\, Napoli\, 80125
CATEGORIES:Fiera
ATTACH;FMTTYPE=image/jpeg:https://mostradoltremare.it/wp-content/uploads/2024/10/24939_image_Logo_TuttoPizza.jpg
ORGANIZER;CN="Squisito Eventi srls":MAILTO:info@tuttopizzaexpo.com
END:VEVENT
END:VCALENDAR