BEGIN:VCALENDAR
VERSION:2.0
PRODID:-//Mostra d&#039;Oltremare - ECPv6.15.20//NONSGML v1.0//EN
CALSCALE:GREGORIAN
METHOD:PUBLISH
X-WR-CALNAME:Mostra d&#039;Oltremare
X-ORIGINAL-URL:https://mostradoltremare.it
X-WR-CALDESC:Eventi per Mostra d&#039;Oltremare
REFRESH-INTERVAL;VALUE=DURATION:PT1H
X-Robots-Tag:noindex
X-PUBLISHED-TTL:PT1H
BEGIN:VTIMEZONE
TZID:UTC
BEGIN:STANDARD
TZOFFSETFROM:+0000
TZOFFSETTO:+0000
TZNAME:UTC
DTSTART:20170101T000000
END:STANDARD
END:VTIMEZONE
BEGIN:VEVENT
DTSTART;TZID=UTC:20180525T130000
DTEND;TZID=UTC:20180527T220000
DTSTAMP:20260423T034502
CREATED:20241008T210710Z
LAST-MODIFIED:20241008T210710Z
UID:24947-1527253200-1527458400@mostradoltremare.it
SUMMARY:International Tattoo Fest Napoli 2018 - 3^ edizione
DESCRIPTION:300 tatuatori nazionali ed internazionali\, seminario sul tatuaggio a colori & impostazione del disegno\, artisti di strada\, animazione\, area ristoro. Orari manifestazione:  \nvenerdì 13\,00-23\,00sabato 12\,00-23\,00domenica 12\,00-22\,00 \nPer informazioni: 0818854876 – info@tattoofestnapoli.com Ingresso Piazzale Tecchio Prezzi: -biglietto singola giornata: Euro 15\,00 + diritti di prevendita -abbonamento tre giorni: Euro 33\,00 + diritti di prevendita Acquisto online su http://www.tattoonapoliexpo.mytickets.it/
URL:https://mostradoltremare.it/event/international-tattoo-fest-napoli-2018-3-edizione/
LOCATION:Padiglione 10 e Giardino dei Cedri\, Piazzale Tecchio\, Napoli\, 80125\, Italia
CATEGORIES:Fiera
ATTACH;FMTTYPE=image/jpeg:https://mostradoltremare.it/wp-content/uploads/2024/10/24947_image_2-2018-tattoo.jpg
ORGANIZER;CN="INTERNATIONAL%20TATTOO%20NAPOLI%20S.R.L.":MAILTO:info@tattoofestnapoli_com
END:VEVENT
BEGIN:VEVENT
DTSTART;TZID=UTC:20180526T100000
DTEND;TZID=UTC:20180527T190000
DTSTAMP:20260423T034502
CREATED:20241008T210733Z
LAST-MODIFIED:20241008T210733Z
UID:24951-1527328800-1527447600@mostradoltremare.it
SUMMARY:Quattrozampeinfiera 2018 - 5^ edizione
DESCRIPTION:La manifestazione più pet friendly d’Italia. Educatori\, comportamentalisti\, veterinari\, associazioni e aziende\, tutti rigorosamente a disposizione dei visitatori per consigli\, formazione\, informazione\, aggiornamenti e vendita di prodotti e servizi. Area expo\, FelisWorld\, DogsWorld\, Doggy Show\, Dog Carpet Show\, Aquadog e Splash Dog Trainer\, Dog Agility\, Rally Obedience\, Virgin Active Village\, Disc Dog ed altro Tutte le Dog Activities sono aperte al pubblico. Ci si può iscrivere direttamente in loco. Sono attività gratuite e danno diritto a tre mesi di abbonamento gratuito alla rivista online di Quattro Zampe. Tutti i cani\, sia di allevamenti che di privati\, devono essere muniti di microchip e di scheda di iscrizione all’anagrafe canina. Devono essere rigorosamente tenuti al guinzaglio e\, se mordaci\, con museruola al seguito. Per accedere alla fiera il proprietario di animale deve essere in possesso del LIBRETTO SANITARIO in regola.I cuccioli devono aver compiuto i 4 mesi per accedere alla Fiera.Qualora ci fossero cani con orecchi e code tagliate\, devono essere seguiti da certificato veterinario attestante la natura terapeutica dell’amputazione. Possono accedere alla manifestazione gli amanti di cani e gatti anche senza i loro amici pelosi. Ingresso Viale Kennedy con orario 10\,00-19\,00. Chiusura casse ore 18\,00 Prezzi biglietti: -intero per adulti ed over 10 anni: Euro 11\,00; scaricando il buono sconto dal sito www.quattrozampeinfiera.it: Euro 8\,00 -biglietto online: Euro 7\,00 + 1\,50 diritti di prevendita; -disabile con certificato disabilità dal 70% al 100% + accompagnatore\, bambini fino a 10 anni non compiuti\, cani e gatti: ingresso gratuito    
URL:https://mostradoltremare.it/event/quattrozampeinfiera-2018-5-edizione/
LOCATION:Padiglioni 4-5-6- Laghetto Fasilides\, Viale Kennedy 54\, Napoli
CATEGORIES:Fiera
ATTACH;FMTTYPE=image/jpeg:https://mostradoltremare.it/wp-content/uploads/2024/10/24951_image_quattrozampe-napoli.jpg
ORGANIZER;CN="EVENTS FACTORY ITALY S.R.L.":MAILTO:info@quattrozampeinfiera_it
END:VEVENT
BEGIN:VEVENT
DTSTART;TZID=UTC:20180526T200000
DTEND;TZID=UTC:20180526T230000
DTSTAMP:20260423T034502
CREATED:20241008T210756Z
LAST-MODIFIED:20241008T210756Z
UID:24955-1527364800-1527375600@mostradoltremare.it
SUMMARY:25° Saggio di fine Anno Accademico Scuola di danza Patty Schisa 2018
DESCRIPTION:Programma: Concerto\, Circus\, Don Chisciotte\, Gala 25° Anniversario. Ingresso ad inviti
URL:https://mostradoltremare.it/event/25-saggio-di-fine-anno-accademico-scuola-di-danza-patty-schisa-2018/
LOCATION:Atrio Teatro Mediterraneo e Sala Italia\, Viale J.F.Kennedy 54\, Napoli\, Italia
CATEGORIES:Spettacolo
ATTACH;FMTTYPE=image/jpeg:https://mostradoltremare.it/wp-content/uploads/2024/10/24955_image_patty-schisa-2018.jpg
ORGANIZER;CN="Scuola di danza PATTY SCHISA":MAILTO:pattyschisa@libero.it
END:VEVENT
END:VCALENDAR