BEGIN:VCALENDAR
VERSION:2.0
PRODID:-//Mostra d&#039;Oltremare - ECPv6.15.20//NONSGML v1.0//EN
CALSCALE:GREGORIAN
METHOD:PUBLISH
X-WR-CALNAME:Mostra d&#039;Oltremare
X-ORIGINAL-URL:https://mostradoltremare.it
X-WR-CALDESC:Eventi per Mostra d&#039;Oltremare
REFRESH-INTERVAL;VALUE=DURATION:PT1H
X-Robots-Tag:noindex
X-PUBLISHED-TTL:PT1H
BEGIN:VTIMEZONE
TZID:UTC
BEGIN:STANDARD
TZOFFSETFROM:+0000
TZOFFSETTO:+0000
TZNAME:UTC
DTSTART:20170101T000000
END:STANDARD
END:VTIMEZONE
BEGIN:VEVENT
DTSTART;TZID=UTC:20180606T201500
DTEND;TZID=UTC:20180607T235900
DTSTAMP:20260423T020556
CREATED:20241008T211004Z
LAST-MODIFIED:20241008T211004Z
UID:24976-1528316100-1528415940@mostradoltremare.it
SUMMARY:Spettacoli di Danza
DESCRIPTION:orario spettacoli per entrambe le giornate: 20\,15-24\,00 ingressi ad inviti
URL:https://mostradoltremare.it/event/spettacoli-di-danza-2/
LOCATION:Teatro Mediterraneo e Piazzale antistante\, Viale J.F.Kennedy 54\, Napoli\, 80125
CATEGORIES:Spettacolo
ATTACH;FMTTYPE=image/jpeg:https://mostradoltremare.it/wp-content/uploads/2024/10/24976_image_perrella-1-1.jpg
ORGANIZER;CN="Perrella%20Service":MAILTO:alessandro@perrellaservice_it
END:VEVENT
END:VCALENDAR