BEGIN:VCALENDAR
VERSION:2.0
PRODID:-//Mostra d&#039;Oltremare - ECPv6.15.20//NONSGML v1.0//EN
CALSCALE:GREGORIAN
METHOD:PUBLISH
X-WR-CALNAME:Mostra d&#039;Oltremare
X-ORIGINAL-URL:https://mostradoltremare.it
X-WR-CALDESC:Eventi per Mostra d&#039;Oltremare
REFRESH-INTERVAL;VALUE=DURATION:PT1H
X-Robots-Tag:noindex
X-PUBLISHED-TTL:PT1H
BEGIN:VTIMEZONE
TZID:UTC
BEGIN:STANDARD
TZOFFSETFROM:+0000
TZOFFSETTO:+0000
TZNAME:UTC
DTSTART:20170101T000000
END:STANDARD
END:VTIMEZONE
BEGIN:VEVENT
DTSTART;TZID=UTC:20180611T090000
DTEND;TZID=UTC:20180611T190000
DTSTAMP:20260423T020552
CREATED:20241008T211043Z
LAST-MODIFIED:20241008T211043Z
UID:24982-1528707600-1528743600@mostradoltremare.it
SUMMARY:Giochi Senza Barriere 2018 - 14^ edizione
DESCRIPTION:Giornata di festa gratuita dedicata soprattutto ai bambini disabili. Partecipano con i propri operatori: Accademia Aeronautica\, Polizia di Stato\, Polizia Municipale\, Guardia di Finanza\, Vigili del Fuoco\, UNITALSI\, CNR\, Associazioni\, Cooperative\, Parrocchie\, Scuole. Area maneggio\, area giochi con giostre e gonfiabili\, stand e spazi attrezzati per l’incontro e la sperimentazione\, area food\, intrattenimento con cantanti ed artisti di strada\, laboratori\, assistenza sanitaria. Programma e dettagli su www.tuttiascuola.org. Ingresso: Via Terracina
URL:https://mostradoltremare.it/event/giochi-senza-barriere-2018-14-edizione/
LOCATION:Viale delle Palme\, Laghetto Fasilides e Cubo d’Oro\, Ingresso Via Terracina\, Napoli
CATEGORIES:Spettacolo
ATTACH;FMTTYPE=image/jpeg:https://mostradoltremare.it/wp-content/uploads/2024/10/24982_image_giochi-senza-barriere-1.jpg
ORGANIZER;CN="Associazione Tutti a scuola Onlus":MAILTO:info@tuttiascuola_org
END:VEVENT
BEGIN:VEVENT
DTSTART;TZID=UTC:20180611T203000
DTEND;TZID=UTC:20180611T233000
DTSTAMP:20260423T020552
CREATED:20241008T211100Z
LAST-MODIFIED:20241008T211100Z
UID:24985-1528749000-1528759800@mostradoltremare.it
SUMMARY:Saggio di danza ASD Formazione Danza Accademia Normanna
DESCRIPTION:Ingresso ad inviti
URL:https://mostradoltremare.it/event/saggio-di-danza-asd-formazione-danza-accademia-normanna/
LOCATION:Teatro Mediterraneo e Piazzale antistante\, Viale J.F.Kennedy 54\, Napoli\, 80125
CATEGORIES:Spettacolo
ORGANIZER;CN="ASD FORMAZIONE DANZA ACCADEMIA NORMANNA":MAILTO:accademia.normanna@libero.it
END:VEVENT
BEGIN:VEVENT
DTSTART;TZID=UTC:20180611T203000
DTEND;TZID=UTC:20180611T233000
DTSTAMP:20260423T020552
CREATED:20241008T211116Z
LAST-MODIFIED:20241008T211116Z
UID:24987-1528749000-1528759800@mostradoltremare.it
SUMMARY:Enzo Avitabile & Bottari\, James Senese\, Napoli Centrale e Luchè
DESCRIPTION:Festa mediterranea popolare ad ingresso libero. Serata all’insegna della musica\, della socializzazione e dell’intrattenimento.  
URL:https://mostradoltremare.it/event/enzo-avitabile-bottari-james-senese-napoli-centrale-e-luche/
LOCATION:ARENA FLEGREA\, Via Terracina 197\, Napoli\, 80125
CATEGORIES:Spettacolo
ATTACH;FMTTYPE=image/png:https://mostradoltremare.it/wp-content/uploads/2024/10/24987_image_senese-avitabile.png
ORGANIZER;CN="Come on Web srl":MAILTO:info@etes.it
END:VEVENT
END:VCALENDAR