BEGIN:VCALENDAR
VERSION:2.0
PRODID:-//Mostra d&#039;Oltremare - ECPv6.15.20//NONSGML v1.0//EN
CALSCALE:GREGORIAN
METHOD:PUBLISH
X-WR-CALNAME:Mostra d&#039;Oltremare
X-ORIGINAL-URL:https://mostradoltremare.it
X-WR-CALDESC:Eventi per Mostra d&#039;Oltremare
REFRESH-INTERVAL;VALUE=DURATION:PT1H
X-Robots-Tag:noindex
X-PUBLISHED-TTL:PT1H
BEGIN:VTIMEZONE
TZID:UTC
BEGIN:STANDARD
TZOFFSETFROM:+0000
TZOFFSETTO:+0000
TZNAME:UTC
DTSTART:20170101T000000
END:STANDARD
END:VTIMEZONE
BEGIN:VEVENT
DTSTART;TZID=UTC:20180612T190000
DTEND;TZID=UTC:20180613T230000
DTSTAMP:20260423T020553
CREATED:20241008T211133Z
LAST-MODIFIED:20241008T211133Z
UID:24990-1528830000-1528930800@mostradoltremare.it
SUMMARY:Saggio del Centro Studi Danza Dance Art Project
DESCRIPTION:Ingresso ad inviti.  
URL:https://mostradoltremare.it/event/saggio-del-centro-studi-danza-dance-art-project/
LOCATION:Teatro Mediterraneo e Piazzale antistante\, Viale J.F.Kennedy 54\, Napoli\, 80125
CATEGORIES:Spettacolo
ATTACH;FMTTYPE=image/jpeg:https://mostradoltremare.it/wp-content/uploads/2024/10/24990_image_danceartproject.jpg
ORGANIZER;CN="ASD Centro Studi Danza Dance Art Project":MAILTO:danceartprojectasd@gmail_com
END:VEVENT
BEGIN:VEVENT
DTSTART;TZID=UTC:20180612T200000
DTEND;TZID=UTC:20180612T223000
DTSTAMP:20260423T020553
CREATED:20241008T211155Z
LAST-MODIFIED:20241008T211155Z
UID:24993-1528833600-1528842600@mostradoltremare.it
SUMMARY:Bonobo in Concerto
DESCRIPTION:Unica data a Napoli Prezzi biglietti: Cavea alta Euro 26\,00 + diritti di prevendita Cavea media Euro 32\,00 + diritti di prevendita Cavea bassa Euro 38\,00 + diritti di prevendita
URL:https://mostradoltremare.it/event/bonobo-in-concerto/
LOCATION:ARENA FLEGREA\, Via Terracina 197\, Napoli\, 80125
CATEGORIES:Spettacolo
ATTACH;FMTTYPE=image/jpeg:https://mostradoltremare.it/wp-content/uploads/2024/10/24993_image_bonobo-arena-flegrea.jpg
ORGANIZER;CN="Come on Web srl":MAILTO:info@etes.it
END:VEVENT
END:VCALENDAR