BEGIN:VCALENDAR
VERSION:2.0
PRODID:-//Mostra d&#039;Oltremare - ECPv6.15.20//NONSGML v1.0//EN
CALSCALE:GREGORIAN
METHOD:PUBLISH
X-ORIGINAL-URL:https://mostradoltremare.it
X-WR-CALDESC:Eventi per Mostra d&#039;Oltremare
REFRESH-INTERVAL;VALUE=DURATION:PT1H
X-Robots-Tag:noindex
X-PUBLISHED-TTL:PT1H
BEGIN:VTIMEZONE
TZID:UTC
BEGIN:STANDARD
TZOFFSETFROM:+0000
TZOFFSETTO:+0000
TZNAME:UTC
DTSTART:20170101T000000
END:STANDARD
END:VTIMEZONE
BEGIN:VEVENT
DTSTART;TZID=UTC:20180617T200000
DTEND;TZID=UTC:20180617T235900
DTSTAMP:20260423T020548
CREATED:20241008T211301Z
LAST-MODIFIED:20241008T211301Z
UID:25003-1529265600-1529279940@mostradoltremare.it
SUMMARY:Saggio di danza Progetto Danza 2018
DESCRIPTION:Ingresso ad inviti
URL:https://mostradoltremare.it/event/saggio-di-danza-progetto-danza-2018/
LOCATION:Teatro Mediterraneo e Piazzale antistante\, Viale J.F.Kennedy 54\, Napoli\, 80125
CATEGORIES:Spettacolo
ATTACH;FMTTYPE=image/jpeg:https://mostradoltremare.it/wp-content/uploads/2024/10/25003_image_2-progetto-danza.jpg
ORGANIZER;CN="ASD Progetto Danza":MAILTO:progetto.danza95@libero.it
END:VEVENT
END:VCALENDAR