BEGIN:VCALENDAR
VERSION:2.0
PRODID:-//Mostra d&#039;Oltremare - ECPv6.15.20//NONSGML v1.0//EN
CALSCALE:GREGORIAN
METHOD:PUBLISH
X-WR-CALNAME:Mostra d&#039;Oltremare
X-ORIGINAL-URL:https://mostradoltremare.it
X-WR-CALDESC:Eventi per Mostra d&#039;Oltremare
REFRESH-INTERVAL;VALUE=DURATION:PT1H
X-Robots-Tag:noindex
X-PUBLISHED-TTL:PT1H
BEGIN:VTIMEZONE
TZID:UTC
BEGIN:STANDARD
TZOFFSETFROM:+0000
TZOFFSETTO:+0000
TZNAME:UTC
DTSTART:20170101T000000
END:STANDARD
END:VTIMEZONE
BEGIN:VEVENT
DTSTART;TZID=UTC:20180621T190000
DTEND;TZID=UTC:20180621T230000
DTSTAMP:20260423T020557
CREATED:20241008T211343Z
LAST-MODIFIED:20241008T211343Z
UID:25010-1529607600-1529622000@mostradoltremare.it
SUMMARY:Saggio del Centro Studi Visione Danza 2018
DESCRIPTION:Ingresso Viale Kennedy
URL:https://mostradoltremare.it/event/saggio-del-centro-studi-visione-danza-2018/
LOCATION:Teatro Mediterraneo e Piazzale antistante\, Viale J.F.Kennedy 54\, Napoli\, 80125
CATEGORIES:Spettacolo
ATTACH;FMTTYPE=image/jpeg:https://mostradoltremare.it/wp-content/uploads/2024/10/20762_image_visione-danza.jpg
ORGANIZER;CN="ASD%20Danza%20Flegrea%20Sport":MAILTO:info@danzaflegrea_it
END:VEVENT
BEGIN:VEVENT
DTSTART;TZID=UTC:20180621T210000
DTEND;TZID=UTC:20180621T233000
DTSTAMP:20260423T020557
CREATED:20241008T211419Z
LAST-MODIFIED:20241008T211419Z
UID:25012-1529614800-1529623800@mostradoltremare.it
SUMMARY:Noel Gallagher's High Flying Birds in Concerto
DESCRIPTION:Stranded on Earth World Tour. Prezzi biglietti:  \ncavea bassa centrale Euro 60\,00cavea bassa laterale Euro 55\,00cavea alta Euro 45\,00panoramica Euro 40\,00
URL:https://mostradoltremare.it/event/noel-gallaghers-high-flying-birds-in-concerto/
LOCATION:ARENA FLEGREA\, Via Terracina 197\, Napoli\, 80125
CATEGORIES:Spettacolo
ATTACH;FMTTYPE=image/jpeg:https://mostradoltremare.it/wp-content/uploads/2024/10/25012_image_noel-gallagher.jpg
ORGANIZER;CN="Come on Web srl":MAILTO:info@etes.it
END:VEVENT
END:VCALENDAR