BEGIN:VCALENDAR
VERSION:2.0
PRODID:-//Mostra d&#039;Oltremare - ECPv6.15.20//NONSGML v1.0//EN
CALSCALE:GREGORIAN
METHOD:PUBLISH
X-ORIGINAL-URL:https://mostradoltremare.it
X-WR-CALDESC:Eventi per Mostra d&#039;Oltremare
REFRESH-INTERVAL;VALUE=DURATION:PT1H
X-Robots-Tag:noindex
X-PUBLISHED-TTL:PT1H
BEGIN:VTIMEZONE
TZID:UTC
BEGIN:STANDARD
TZOFFSETFROM:+0000
TZOFFSETTO:+0000
TZNAME:UTC
DTSTART:20170101T000000
END:STANDARD
END:VTIMEZONE
BEGIN:VEVENT
DTSTART;TZID=UTC:20180914T103000
DTEND;TZID=UTC:20180916T235900
DTSTAMP:20260422T211435
CREATED:20241008T212329Z
LAST-MODIFIED:20241008T212329Z
UID:25076-1536921000-1537142340@mostradoltremare.it
SUMMARY:Napoli incontra il Mondo 2018 - 2^ edizione
DESCRIPTION:Tre giorni all’insegna delle tradizioni di vari Paesi del Mondo\, un viaggio itinerante fra cultura\, arte\, folklore\, musica. Area espositiva\, spettacoli\, convegni\, gastronomie etniche. All’interno di Napoli incontra il Mondo troverete: Festival dell’Oriente\, Festival Irlandese\, Festival Country\, That’s America\, Festival dell’America Latina\, Festival Spagnolo\, Festival Argentino\, Le Mille e una Notte ed altro ancora. Novità: Sport Games\, Free Style & Stuntmen Show\, Napoli Cavalli\, Sushi Village\, Drums Festival. Orario: Festival dell’Oriente = dalle 10\,30 alle 22\,30 – Tutti gli altri Festival = dalle 12\,00 alle 24\,00. Holi Festival avrà luogo nei giorni 15 e 16 settembre 2018 alle ore 15\,00. Il biglietto d’ingresso è giornaliero\, dà diritto a partecipare a tutti i Festival che si svolgono in contemporanea ed è utilizzabile per un solo ingresso (non è quindi possibile\, per motivi SIAE\, uscire dalla fiera e rientrare con lo stesso biglietto). I tagliandi delle gastronomie\, una volta acquistati\, non sono rimborsabili nel caso in cui non vengano utilizzati. Programma consultabile su www.ilfestivaldinapoli.it – I programmi dei palchi e degli spettacoli potranno subire variazioni non dipendenti dalla volontà degli Organizzatori. Prezzi biglietti: -Intero (adulti e ragazzi oltre i 10 anni) = Euro 12\,00 -Ridotto (bambini dai 5 ai 10 anni compiuti ed accompagnatori dei disabili al 100%) = Euro 8\,00 I biglietti si acquisteranno nei giorni ed orari della manifestazione alle casse situate presso gli ingressi di Piazzale Tecchio e Viale Kennedy. Omaggio per bambini al di sotto dei 5 anni e disabili al 100% con certificato ASL o foglio verde Per informazioni: 3669019308 – 3335756460 – 3386514590 – 3665788366 – Email: staff@ilfestivaldinapoli.it
URL:https://mostradoltremare.it/event/napoli-incontra-il-mondo-2018-2-edizione/
LOCATION:Padiglioni 1-2-3-3B-4-5-6-10-aree esterne
CATEGORIES:Fiera
ATTACH;FMTTYPE=image/png:https://mostradoltremare.it/wp-content/uploads/2024/10/25076_image_NAPOLI-INCONTRA-IL-MONDO-2018.png
ORGANIZER;CN="Idee in fiera s.r.l.":MAILTO:staff@festivaldelloriente_net
END:VEVENT
END:VCALENDAR