BEGIN:VCALENDAR
VERSION:2.0
PRODID:-//Mostra d&#039;Oltremare - ECPv6.15.20//NONSGML v1.0//EN
CALSCALE:GREGORIAN
METHOD:PUBLISH
X-ORIGINAL-URL:https://mostradoltremare.it
X-WR-CALDESC:Eventi per Mostra d&#039;Oltremare
REFRESH-INTERVAL;VALUE=DURATION:PT1H
X-Robots-Tag:noindex
X-PUBLISHED-TTL:PT1H
BEGIN:VTIMEZONE
TZID:UTC
BEGIN:STANDARD
TZOFFSETFROM:+0000
TZOFFSETTO:+0000
TZNAME:UTC
DTSTART:20170101T000000
END:STANDARD
END:VTIMEZONE
BEGIN:VEVENT
DTSTART;TZID=UTC:20181005T093000
DTEND;TZID=UTC:20181008T150000
DTSTAMP:20260422T161712
CREATED:20241008T212525Z
LAST-MODIFIED:20241008T212525Z
UID:25091-1538731800-1539010800@mostradoltremare.it
SUMMARY:Vebo 2018 - 17^ edizione
DESCRIPTION:Manifestazione internazionale business to business dedicata a bomboniere ed articoli da regalo\, esclusivamente riservata agli operatori di settore. La kermesse riunisce le categorie merceologiche al più alto livello\, facendo coesistere il classico ed il contemporaneo. Ingresso gratuito su invito. Registrazione sul sito www.vebofiera.com per ricevere l’invito gratuito personalizzato. Ingressi: Piazzale Tecchio\, Viale Kennedy\, Via Terracina Orari manifestazione: venerdì e sabato: 9\,00-19\,00 domenica: 9\,00-20\,00 lunedì 9\,00-15\,00 Infoline: 0817111861 – info@vebofiera.com
URL:https://mostradoltremare.it/event/vebo-2018-17-edizione/
LOCATION:Padiglioni 1-2-3-3B-4-5-6\, Piazzale Tecchio e Viale Kennedy\, Napoli\, Italia
CATEGORIES:Fiera
ATTACH;FMTTYPE=image/jpeg:https://mostradoltremare.it/wp-content/uploads/2024/10/25091_image_vebo-2018.jpg
ORGANIZER;CN="VEBOFIERA SRL":MAILTO:info@vebofiera.com
END:VEVENT
END:VCALENDAR