BEGIN:VCALENDAR
VERSION:2.0
PRODID:-//Mostra d&#039;Oltremare - ECPv6.15.20//NONSGML v1.0//EN
CALSCALE:GREGORIAN
METHOD:PUBLISH
X-WR-CALNAME:Mostra d&#039;Oltremare
X-ORIGINAL-URL:https://mostradoltremare.it
X-WR-CALDESC:Eventi per Mostra d&#039;Oltremare
REFRESH-INTERVAL;VALUE=DURATION:PT1H
X-Robots-Tag:noindex
X-PUBLISHED-TTL:PT1H
BEGIN:VTIMEZONE
TZID:UTC
BEGIN:STANDARD
TZOFFSETFROM:+0000
TZOFFSETTO:+0000
TZNAME:UTC
DTSTART:20170101T000000
END:STANDARD
END:VTIMEZONE
BEGIN:VEVENT
DTSTART;TZID=UTC:20181014T213000
DTEND;TZID=UTC:20181014T235900
DTSTAMP:20260422T161620
CREATED:20241008T212603Z
LAST-MODIFIED:20241008T212603Z
UID:25099-1539552600-1539561540@mostradoltremare.it
SUMMARY:Serata Finale Ragazza We Can Dance 2018
DESCRIPTION:“Ragazza WE CAN DANCE” si rivolge a ragazze di talento con tanta voglia di esprimersi e mettersi in gioco. Il concorso è diventato uno degli eventi più’ attesi del settore\, rappresentando l’opportunità per entrare a far parte di una rete professionale. Anche quest’anno saranno premiati i volti nuovi per il mondo dello spettacolo. Media partner del concorso RADIO MARTE e RADIO MARTE2. Ingresso ad inviti
URL:https://mostradoltremare.it/event/serata-finale-ragazza-we-can-dance-2018/
LOCATION:Teatro Mediterraneo e Sala Italia\, Viale Kennedy 54\, Napoli\, 80125\, Italia
CATEGORIES:Spettacolo
ATTACH;FMTTYPE=image/jpeg:https://mostradoltremare.it/wp-content/uploads/2024/10/25099_image_ragazza-we-can-dance.jpg
ORGANIZER;CN="WCD%20Event%20srls":MAILTO:info@wecandance_com
END:VEVENT
END:VCALENDAR