BEGIN:VCALENDAR
VERSION:2.0
PRODID:-//Mostra d&#039;Oltremare - ECPv6.15.20//NONSGML v1.0//EN
CALSCALE:GREGORIAN
METHOD:PUBLISH
X-ORIGINAL-URL:https://mostradoltremare.it
X-WR-CALDESC:Eventi per Mostra d&#039;Oltremare
REFRESH-INTERVAL;VALUE=DURATION:PT1H
X-Robots-Tag:noindex
X-PUBLISHED-TTL:PT1H
BEGIN:VTIMEZONE
TZID:UTC
BEGIN:STANDARD
TZOFFSETFROM:+0000
TZOFFSETTO:+0000
TZNAME:UTC
DTSTART:20170101T000000
END:STANDARD
END:VTIMEZONE
BEGIN:VEVENT
DTSTART;TZID=UTC:20181020T103000
DTEND;TZID=UTC:20181028T223000
DTSTAMP:20260422T161710
CREATED:20241008T212627Z
LAST-MODIFIED:20241008T212627Z
UID:25104-1540031400-1540765800@mostradoltremare.it
SUMMARY:Tuttosposi 2018 - 30^ edizione
DESCRIPTION:Fiera consumer dedicata al mondo del wedding: prodotti\, servizi\, sfilate. Orari di apertura al pubblico: dal lunedì al venerdì = 16\,30-21\,30 sabato e domenica = 10\,30-22\,30 Prezzi biglietti: dal lunedì al venerdì = Euro 2\,50 sabato e domenica: ingresso fino alle ore 15\,00= Euro 5\,00; ingresso dopo le ore 15\,00= Euro 8\,00 tessera permanente valida per tutti e 9 i giorni di fiera = Euro 15\,00 ingresso gratuito per bambini fino a 12 anni e per le coppie che hanno attivato la Privilege Card. Attivazione Privilege Card e Programma eventi sul sito www.tuttosposi.it. Il 20 ottobre ore 19\,00 sfilata di Maison Signore Il 21 ottobre ore 19\,00 sfilata di Atelier Pinella Passaro Sposa – ore 21\,00 sfilata di Atelier Stella White Il 24 ed il 26 ottobre ore 17\,00 Workshop Nail Art di Ciro Florio Make Up Artist Il 27 ottobre ore 19\,00 sfilata di Vanitas – ore 21\,00 sfilata di Maria Laurenza Il 28 ottobre ore 12\,30 Gianni Molaro Fashion Show – ore 13\,30 Workshop Nail Art di Ciro Florio Make Up Artist – ore  19\,00 sfilata di Gianni Molaro    
URL:https://mostradoltremare.it/event/tuttosposi-2018-30-edizione/
LOCATION:Padiglioni 1-2-3-4-5\, Piazzale Tecchio\, Viale Kennedy\, Napoli\, 80125
CATEGORIES:Fiera
ATTACH;FMTTYPE=image/png:https://mostradoltremare.it/wp-content/uploads/2024/10/24755_image_tuttosposi.png
ORGANIZER;CN="OFI%20SRL%20UNIPERSONALE":MAILTO:segreteria@tuttosposi_it
END:VEVENT
BEGIN:VEVENT
DTSTART;TZID=UTC:20181025T100000
DTEND;TZID=UTC:20181026T170000
DTSTAMP:20260422T161710
CREATED:20241008T212748Z
LAST-MODIFIED:20241008T212748Z
UID:25115-1540461600-1540573200@mostradoltremare.it
SUMMARY:I passi giusti per il lavoro
DESCRIPTION:Manifestazione promossa dalla Regione Campania ed a cura dell’Associazione Accademia Medeaterranea. Workshop e Colloqui degli studenti con APL\, CPI e aziende. Il 25 ottobre Contest culinario con premiazione finale
URL:https://mostradoltremare.it/event/i-passi-giusti-per-il-lavoro/
LOCATION:Ristorante della Piscina Piano Superiore e Padiglione 10\, Piazzale Tecchio\, Napoli\, 80125
CATEGORIES:Congresso
ATTACH;FMTTYPE=image/jpeg:https://mostradoltremare.it/wp-content/uploads/2024/10/25115_image_medeaterranea-25-26-ottobre.jpg
ORGANIZER;CN="Accademia%20MedEATerranea":MAILTO:accademia@medeaterranea_eu
END:VEVENT
BEGIN:VEVENT
DTSTART;TZID=UTC:20181026T083000
DTEND;TZID=UTC:20181026T130000
DTSTAMP:20260422T161710
CREATED:20241008T212811Z
LAST-MODIFIED:20241008T212811Z
UID:25118-1540542600-1540558800@mostradoltremare.it
SUMMARY:Convegno Provinciale ANACI
DESCRIPTION:Dal titolo “Dal condominio alla città. Vivibilità\, quiete e sicurezza”. Ingresso auto e pedonale: Viale Kennedy
URL:https://mostradoltremare.it/event/convegno-provinciale-anaci/
LOCATION:Atrio Teatro Mediterraneo e Sala Italia\, Viale J.F.Kennedy 54\, Napoli\, Italia
CATEGORIES:Congresso
ATTACH;FMTTYPE=image/jpeg:https://mostradoltremare.it/wp-content/uploads/2024/10/25118_image_ANACI-26-ottobre.jpg
ORGANIZER;CN="Anaci%20Napoli%20Servizi%20srl":MAILTO:info@anaci_napoli_it
END:VEVENT
BEGIN:VEVENT
DTSTART;TZID=UTC:20181026T110000
DTEND;TZID=UTC:20181028T233000
DTSTAMP:20260422T161710
CREATED:20241008T212830Z
LAST-MODIFIED:20241008T212830Z
UID:25122-1540551600-1540769400@mostradoltremare.it
SUMMARY:Canapa in Mostra 2018 - 5^ edizione
DESCRIPTION:Fiera internazionale della canapa industriale e medica. Convegni:  Green R-evolution 5: il 26 ottobre dalle 13\,00 alle 19\,00 – il 27 ottobre dalle 11\,00 alle 19\,00 – Presentazione di Canapa in Tesi volume 3: il 28 ottobre dalle 12\,00 alle 18\,00 Music Station CiM presso il Giardino dei Cedri: il 26 ottobre dalle 12\,30 alle 23\,00 – il 27 ottobre dalle 12\,00 alle 22\,00 – il 28 ottobre dalle 12\,00 alle 23\,00 Programma eventi collaterali su www.canapainmostra.com Ingresso Piazzale Tecchio Prezzi: biglietto giornaliero: Euro 8\,00 + diritti prevendita; abbonamento tre giorni: Euro 20\,00 + diritti prevendita – Acquisto online su www.go2.it e nelle prevendite aderenti a tale circuito Orari di apertura al pubblico:  \nvenerdì 26 ottobre e sabato 27 ottobre: dalle 11\,00 alle 20\,00 area espositiva; dalle 20\,00 alle 23\,30 Giardino dei Cedri;domenica 28 ottobre: dalle 12\,00 alle 21\,00 area espositiva; dalle 21\,00 alle 23\,30 Giardino dei Cedri \n 
URL:https://mostradoltremare.it/event/canapa-in-mostra-2018-5-edizione/
LOCATION:Padiglione 10 e Giardino dei Cedri\, Piazzale Tecchio\, Napoli\, 80125\, Italia
CATEGORIES:Fiera
ATTACH;FMTTYPE=image/jpeg:https://mostradoltremare.it/wp-content/uploads/2024/10/25122_image_2-CANAPA-logobook-001.jpg
ORGANIZER;CN="Associazione%20Canapa%20in%20Mostra":MAILTO:info@canapainmostra_it
END:VEVENT
END:VCALENDAR