BEGIN:VCALENDAR
VERSION:2.0
PRODID:-//Mostra d&#039;Oltremare - ECPv6.15.20//NONSGML v1.0//EN
CALSCALE:GREGORIAN
METHOD:PUBLISH
X-WR-CALNAME:Mostra d&#039;Oltremare
X-ORIGINAL-URL:https://mostradoltremare.it
X-WR-CALDESC:Eventi per Mostra d&#039;Oltremare
REFRESH-INTERVAL;VALUE=DURATION:PT1H
X-Robots-Tag:noindex
X-PUBLISHED-TTL:PT1H
BEGIN:VTIMEZONE
TZID:UTC
BEGIN:STANDARD
TZOFFSETFROM:+0000
TZOFFSETTO:+0000
TZNAME:UTC
DTSTART:20170101T000000
END:STANDARD
END:VTIMEZONE
BEGIN:VEVENT
DTSTART;TZID=UTC:20181102T080000
DTEND;TZID=UTC:20181123T190000
DTSTAMP:20260422T143612
CREATED:20241008T212852Z
LAST-MODIFIED:20241008T212852Z
UID:25126-1541145600-1542999600@mostradoltremare.it
SUMMARY:Preselezioni Concorso Cardarelli
DESCRIPTION:Prove selettive del concorso pubblico per titoli ed esami per la copertura a tempo indeterminato di n° 20 posti di CPS-Infermiere: le prove si terranno presso l’Auditorium Europa del Palacongressi nei giorni: 2-3-5-6-9-10-12 e 13 novembre 2018 in due turni: primo turno ore 8\,00 – secondo turno ore 14\,00.   Ingresso candidati Via Terracina 197. Prove selettive del concorso pubblico per la copertura a tempo indeterminato di n.60 posti di O.S.S.: le prove si terranno il Padiglione 10 nei giorni: 16-17-19-20-21-22-23 novembre 2018 in due turni: primo turno ore 8\,00 – secondo turno ore 14\,00. Ingresso candidati Piazzale Tecchio.  
URL:https://mostradoltremare.it/event/preselezioni-concorso-cardarelli/
LOCATION:Palacongressi – Padiglione 10\, Napoli\, 80125
CATEGORIES:Concorsi
ATTACH;FMTTYPE=image/png:https://mostradoltremare.it/wp-content/uploads/2024/10/24438_image_cardarelli.png
ORGANIZER;CN="Azienda%20Ospedaliera%20di%20rilievo%20Nazionale%20Antonio%20Cardarelli":MAILTO:settore_concorsi@aocardarelli_it
END:VEVENT
BEGIN:VEVENT
DTSTART;TZID=UTC:20181103T190000
DTEND;TZID=UTC:20181103T230000
DTSTAMP:20260422T143612
CREATED:20241008T212916Z
LAST-MODIFIED:20241008T212916Z
UID:25129-1541271600-1541286000@mostradoltremare.it
SUMMARY:Premio Due Sicilie 2018 - Eccellenze del Sud
DESCRIPTION:25 anni del Movimento NeoBorbonico. Con la partecipazione straordinaria dei Principi Carlo e Camilla di Borbone delle Due Sicilie. Conduce Patrizio Rispo. Interverranno: Paolo Caiazzo\, Nello Daniele\, Eddy Napoli\, Napulitanata\, Povia. Premio speciale al Maestro Mariano Rigillo. Ingresso ad inviti – Infoline 800500512 – 3478492762 – Email: neoborbonici@neoborbonici.it Ingresso Viale Kennedy    
URL:https://mostradoltremare.it/event/premio-due-sicilie-2018-eccellenze-del-sud/
LOCATION:Teatro Mediterraneo e Piazzale antistante\, Viale J.F.Kennedy 54\, Napoli\, 80125
CATEGORIES:Spettacolo
ATTACH;FMTTYPE=image/jpeg:https://mostradoltremare.it/wp-content/uploads/2024/10/25129_image_Movimento_Neoborbonico.jpg
ORGANIZER;CN="Passato%20e%20Futuro%20Eventi%20di%20Storia%20Onlus":MAILTO:onlus_passatoefuturo@libero_it
END:VEVENT
END:VCALENDAR