BEGIN:VCALENDAR
VERSION:2.0
PRODID:-//Mostra d&#039;Oltremare - ECPv6.15.20//NONSGML v1.0//EN
CALSCALE:GREGORIAN
METHOD:PUBLISH
X-ORIGINAL-URL:https://mostradoltremare.it
X-WR-CALDESC:Eventi per Mostra d&#039;Oltremare
REFRESH-INTERVAL;VALUE=DURATION:PT1H
X-Robots-Tag:noindex
X-PUBLISHED-TTL:PT1H
BEGIN:VTIMEZONE
TZID:UTC
BEGIN:STANDARD
TZOFFSETFROM:+0000
TZOFFSETTO:+0000
TZNAME:UTC
DTSTART:20170101T000000
END:STANDARD
END:VTIMEZONE
BEGIN:VEVENT
DTSTART;TZID=UTC:20181102T080000
DTEND;TZID=UTC:20181123T190000
DTSTAMP:20260422T143709
CREATED:20241008T212852Z
LAST-MODIFIED:20241008T212852Z
UID:25126-1541145600-1542999600@mostradoltremare.it
SUMMARY:Preselezioni Concorso Cardarelli
DESCRIPTION:Prove selettive del concorso pubblico per titoli ed esami per la copertura a tempo indeterminato di n° 20 posti di CPS-Infermiere: le prove si terranno presso l’Auditorium Europa del Palacongressi nei giorni: 2-3-5-6-9-10-12 e 13 novembre 2018 in due turni: primo turno ore 8\,00 – secondo turno ore 14\,00.   Ingresso candidati Via Terracina 197. Prove selettive del concorso pubblico per la copertura a tempo indeterminato di n.60 posti di O.S.S.: le prove si terranno il Padiglione 10 nei giorni: 16-17-19-20-21-22-23 novembre 2018 in due turni: primo turno ore 8\,00 – secondo turno ore 14\,00. Ingresso candidati Piazzale Tecchio.  
URL:https://mostradoltremare.it/event/preselezioni-concorso-cardarelli/
LOCATION:Palacongressi – Padiglione 10\, Napoli\, 80125
CATEGORIES:Concorsi
ATTACH;FMTTYPE=image/png:https://mostradoltremare.it/wp-content/uploads/2024/10/24438_image_cardarelli.png
ORGANIZER;CN="Azienda%20Ospedaliera%20di%20rilievo%20Nazionale%20Antonio%20Cardarelli":MAILTO:settore_concorsi@aocardarelli_it
END:VEVENT
BEGIN:VEVENT
DTSTART;TZID=UTC:20181123T090000
DTEND;TZID=UTC:20181123T130000
DTSTAMP:20260422T143709
CREATED:20241008T213447Z
LAST-MODIFIED:20241008T213447Z
UID:25164-1542963600-1542978000@mostradoltremare.it
SUMMARY:Il Ruolo della Coscienza nella Psicopatologia
DESCRIPTION:Convegno in memoria di Giovanni Liotti rivolto a Psicologi\, Medici\, Psichiatri\, Psicoterapeuti e Laureandi in Psicologia o Medicina. Sarà rilasciato un attestato di partecipazione. Iscrizione da effettuarsi compilando l’apposita scheda su www.apc.it . La partecipazione è gratuita. Per informazioni: 0644361288 – corsi@apc.it  
URL:https://mostradoltremare.it/event/il-ruolo-della-coscienza-nella-psicopatologia/
LOCATION:Sala Italia\, Viale Kennedy 54\, Napoli\, 80125
CATEGORIES:Congresso
ATTACH;FMTTYPE=image/jpeg:https://mostradoltremare.it/wp-content/uploads/2024/10/25164_image_psicopatologia-1.jpg
ORGANIZER;CN="Scuola%20di%20Psicoterapia%20Cognitiva%20s.r.l.":MAILTO:corsi@apc_it
END:VEVENT
BEGIN:VEVENT
DTSTART;TZID=UTC:20181123T100000
DTEND;TZID=UTC:20181125T150000
DTSTAMP:20260422T143709
CREATED:20241008T213524Z
LAST-MODIFIED:20241008T213524Z
UID:25168-1542967200-1543158000@mostradoltremare.it
SUMMARY:Pharmexpo 2018 - 11^ edizione
DESCRIPTION:Tutto il mondo della farmacia sotto un unico tetto! Manifestazione specializzata nata per agevolare l’incontro fra le aziende di prodotti e servizi farmaceutici\, sanitari ed  omeopatici con gli operatori del settore sanitario.  Realizzata in collaborazione con FOFI\, FEDERFARMA\, ANDI\, CTF\, Associazione Italiana Omeopatia e Facoltà italiane di Farmacia. Ingresso Viale Kennedy Orari: venerdì 23 novembre 2018 dalle 10\,00 alle 18\,30 sabato 24 novembre 2018 dalle 9\,00 alle 18\,30 domenica 25 novembre 2018 dalle 9\,00 alle 15\,00 Programma convegni/corsi e Registrazione visitatori su www.pharmexpo.it Infoline: 0817640032 – info@pharmexpo.it
URL:https://mostradoltremare.it/event/pharmexpo-2018-11-edizione/
LOCATION:Padiglioni 5-6 e Laghetto Fasilides – Napoli\, 80125
CATEGORIES:Fiera
ATTACH;FMTTYPE=image/jpeg:https://mostradoltremare.it/wp-content/uploads/2024/10/25168_image_pharmexpo.jpg
ORGANIZER;CN="PROGECTA SRL":MAILTO:info@progecta.org
END:VEVENT
BEGIN:VEVENT
DTSTART;TZID=UTC:20181123T133000
DTEND;TZID=UTC:20181125T133000
DTSTAMP:20260422T143709
CREATED:20241008T213545Z
LAST-MODIFIED:20241008T213545Z
UID:25172-1542979800-1543152600@mostradoltremare.it
SUMMARY:Conferenza ICABA 2018 - 3^ edizione
DESCRIPTION:Convegno Internazionale sull’Analisi del Comportamento Applicata e l’Intervento per l’Autismo. Relatori di fama internazionale discuteranno sull’assessment ed il trattamento di Comportamenti e Problemi gravi. Stereotipie Motorie e Vocali\, Autolesionismo\, disturbi Alimentari rappresentano le sfide più difficili e importanti nel campo del trattamento dei Disturbi del Neurosviluppo Atipico e in particolare per l’Autismo. Ingresso auto Via Terracina 197 – Ingresso pedonale Viale Kennedy 54 Orario: venerdì 23 novembre dalle 13\,30 alle 19\,30 sabato 24 novembre dalle 9\,00 alle 19\,30 domenica 25 novembre dalle 9\,00 alle 13\,30
URL:https://mostradoltremare.it/event/conferenza-icaba-2018-3-edizione/
LOCATION:Sala Ischia del Palacongressi -Viale Kennedy 54 – Via Terracina\, Via J.F. Kennedy\, 54\, Napoli\, NA\, 80125\, Italy
CATEGORIES:Congresso
ATTACH;FMTTYPE=image/png:https://mostradoltremare.it/wp-content/uploads/2024/10/25172_image_icaba.png
ORGANIZER;CN="IRFID%20SRL":MAILTO:segreteria@irfid_it
END:VEVENT
END:VCALENDAR