BEGIN:VCALENDAR
VERSION:2.0
PRODID:-//Mostra d&#039;Oltremare - ECPv6.15.20//NONSGML v1.0//EN
CALSCALE:GREGORIAN
METHOD:PUBLISH
X-ORIGINAL-URL:https://mostradoltremare.it
X-WR-CALDESC:Eventi per Mostra d&#039;Oltremare
REFRESH-INTERVAL;VALUE=DURATION:PT1H
X-Robots-Tag:noindex
X-PUBLISHED-TTL:PT1H
BEGIN:VTIMEZONE
TZID:UTC
BEGIN:STANDARD
TZOFFSETFROM:+0000
TZOFFSETTO:+0000
TZNAME:UTC
DTSTART:20170101T000000
END:STANDARD
END:VTIMEZONE
BEGIN:VEVENT
DTSTART;TZID=UTC:20181129T083000
DTEND;TZID=UTC:20181202T133000
DTSTAMP:20260422T111935
CREATED:20241008T213738Z
LAST-MODIFIED:20241008T213738Z
UID:25185-1543480200-1543757400@mostradoltremare.it
SUMMARY:Congresso Nazionale SIFO (Società Italiana Farmacia Ospedaliera) 2018 - 40^ edizione
DESCRIPTION:Dal titolo “40 anni di SSN: il farmacista motore di salute per il futuro”. Presso il padiglione 10: Segreteria per registrazione partecipanti\, guardaroba\, area expo – Presso il Palacongressi: sale congressuali\, area poster\, redazione Sifoweb. Orario attività congressuali: giovedì 8\,30-19\,00 venerdì 8\,30-19\,00 sabato 8\,30-19\,00 domenica 8\,30-13\,30 Ingresso pedonale Piazzale Tecchio – Ingresso auto Viale Kennedy
URL:https://mostradoltremare.it/event/congresso-nazionale-sifo-societa-italiana-farmacia-ospedaliera-2018-40-edizione/
LOCATION:Palacongressi – Padiglione 10\, Napoli\, 80125
CATEGORIES:Congresso
ATTACH;FMTTYPE=image/png:https://mostradoltremare.it/wp-content/uploads/2024/10/25185_image_sifo2018logocongresso.png
ORGANIZER;CN="AIM ITALY SRL":MAILTO:sifo2024@aimgroup_eu
END:VEVENT
BEGIN:VEVENT
DTSTART;TZID=UTC:20181130T093000
DTEND;TZID=UTC:20181202T180000
DTSTAMP:20260422T111935
CREATED:20241008T213757Z
LAST-MODIFIED:20241008T213757Z
UID:25188-1543570200-1543773600@mostradoltremare.it
SUMMARY:Arkeda 2018 - 6^ edizione
DESCRIPTION:Mostra Convegno dell’architettura\, edilizia\, design ed arredo. Esclusivamente dedicata ai professionisti ed agli operatori di settore. Area espositiva\, Convegni “Le Torri del Sapere”\, Corsi CFP. Accrediti e prenotazioni ai corsi da effettuarsi online su www.arkeda.it Infoline 0817640032 – info@arkeda.it Ingresso pedonale: Viale Kennedy 54 – Ingresso auto e parcheggio: Via Terracina 197  
URL:https://mostradoltremare.it/event/arkeda-2018-6-edizione/
LOCATION:Padiglioni 6 e 5\, Viale J.F.Kennedy 54\, Napoli\, 80125
CATEGORIES:Fiera
ATTACH;FMTTYPE=image/jpeg:https://mostradoltremare.it/wp-content/uploads/2024/10/25188_image_arkeda-2018.jpg
ORGANIZER;CN="PROGECTA SRL":MAILTO:info@progecta.org
END:VEVENT
END:VCALENDAR