BEGIN:VCALENDAR
VERSION:2.0
PRODID:-//Mostra d&#039;Oltremare - ECPv6.15.20//NONSGML v1.0//EN
CALSCALE:GREGORIAN
METHOD:PUBLISH
X-ORIGINAL-URL:https://mostradoltremare.it
X-WR-CALDESC:Eventi per Mostra d&#039;Oltremare
REFRESH-INTERVAL;VALUE=DURATION:PT1H
X-Robots-Tag:noindex
X-PUBLISHED-TTL:PT1H
BEGIN:VTIMEZONE
TZID:UTC
BEGIN:STANDARD
TZOFFSETFROM:+0000
TZOFFSETTO:+0000
TZNAME:UTC
DTSTART:20170101T000000
END:STANDARD
END:VTIMEZONE
BEGIN:VEVENT
DTSTART;TZID=UTC:20181216T180000
DTEND;TZID=UTC:20181216T213000
DTSTAMP:20260422T112911
CREATED:20241008T213927Z
LAST-MODIFIED:20241008T213927Z
UID:25201-1544983200-1544995800@mostradoltremare.it
SUMMARY:Cerimonia Caduceo d'Oro e Giuramento di Galeno 2018
DESCRIPTION:Premiazione dei decani della professione con la consegna delle medaglie d’oro al merito professionale agli iscritti con 70\, 60 e 25 anni di laurea e delle medaglie d’argento agli iscritti con 40 e 25 anni. Giuramento di Galeno nei rispetto dei principi deontologici della professione da parte dei neolaureati iscritti all’Albo. Ingresso ad inviti.    
URL:https://mostradoltremare.it/event/cerimonia-caduceo-doro-e-giuramento-di-galeno-2018/
LOCATION:Teatro Mediterraneo e Piazzale antistante\, Viale J.F.Kennedy 54\, Napoli\, 80125
CATEGORIES:Spettacolo
ATTACH;FMTTYPE=image/png:https://mostradoltremare.it/wp-content/uploads/2024/10/25201_image_cermoniaMedaglie.png
ORGANIZER;CN="Ordine%20dei%20Farmacisti%20della%20Provincia%20di%20Napoli":MAILTO:info@ordinefarmacistinapoli_it
END:VEVENT
END:VCALENDAR