BEGIN:VCALENDAR
VERSION:2.0
PRODID:-//Mostra d&#039;Oltremare - ECPv6.15.20//NONSGML v1.0//EN
CALSCALE:GREGORIAN
METHOD:PUBLISH
X-ORIGINAL-URL:https://mostradoltremare.it
X-WR-CALDESC:Eventi per Mostra d&#039;Oltremare
REFRESH-INTERVAL;VALUE=DURATION:PT1H
X-Robots-Tag:noindex
X-PUBLISHED-TTL:PT1H
BEGIN:VTIMEZONE
TZID:UTC
BEGIN:STANDARD
TZOFFSETFROM:+0000
TZOFFSETTO:+0000
TZNAME:UTC
DTSTART:20170101T000000
END:STANDARD
END:VTIMEZONE
BEGIN:VEVENT
DTSTART;TZID=UTC:20181217T203000
DTEND;TZID=UTC:20181217T230000
DTSTAMP:20260422T112911
CREATED:20241008T213945Z
LAST-MODIFIED:20241008T213945Z
UID:25204-1545078600-1545087600@mostradoltremare.it
SUMMARY:Danzando per Telethon 2018
DESCRIPTION:Come ogni anno Spazio Danza\, con tutti i suoi allievi\, scende in campo per la raccolta fondi\, collaborando con la BNL Paribas. Le donazioni raccolte saranno interamente devolute a favore della ricerca scientifica per la cura delle malattie genetiche. Ingresso ad inviti.  
URL:https://mostradoltremare.it/event/danzando-per-telethon-2018/
LOCATION:Teatro Mediterraneo e Piazzale antistante\, Viale J.F.Kennedy 54\, Napoli\, 80125
CATEGORIES:Spettacolo
ATTACH;FMTTYPE=image/jpeg:https://mostradoltremare.it/wp-content/uploads/2024/10/25204_image_732-invito-telethon.jpg
ORGANIZER;CN="Spazio%20Danza%20di%20Rosa%20Varriale":MAILTO:info@spaziodanza_org
END:VEVENT
END:VCALENDAR