BEGIN:VCALENDAR
VERSION:2.0
PRODID:-//Mostra d&#039;Oltremare - ECPv6.15.20//NONSGML v1.0//EN
CALSCALE:GREGORIAN
METHOD:PUBLISH
X-WR-CALNAME:Mostra d&#039;Oltremare
X-ORIGINAL-URL:https://mostradoltremare.it
X-WR-CALDESC:Eventi per Mostra d&#039;Oltremare
REFRESH-INTERVAL;VALUE=DURATION:PT1H
X-Robots-Tag:noindex
X-PUBLISHED-TTL:PT1H
BEGIN:VTIMEZONE
TZID:UTC
BEGIN:STANDARD
TZOFFSETFROM:+0000
TZOFFSETTO:+0000
TZNAME:UTC
DTSTART:20170101T000000
END:STANDARD
END:VTIMEZONE
BEGIN:VEVENT
DTSTART;TZID=UTC:20181218T203000
DTEND;TZID=UTC:20181218T230000
DTSTAMP:20260422T112912
CREATED:20241008T214004Z
LAST-MODIFIED:20241008T214004Z
UID:25208-1545165000-1545174000@mostradoltremare.it
SUMMARY:Luigi Libra in Terra Viva. Il concerto
DESCRIPTION:con la partecipazione di: Audio 2\, Angelo Di Gennaro\, Annalisa Martinisi\, Il Giardino dei Semplici\, Gianni Parisi\, Ivan e Cristiano\, Luca Sepe\, Patrizio Oliva. Premio alla Carriera a Peppino di Capri. Presenta Alessandro Cecchi Paone. Degustazioni Eccellenze Campane Per info e prenotazioni: 3495156781 – Mivida Relax Cafè 0815606110 – Gidiesse Studio 0812390221 Ingresso Viale Kennedy 54
URL:https://mostradoltremare.it/event/luigi-libra-in-terra-viva-il-concerto/
LOCATION:Teatro Mediterraneo e Piazzale antistante\, Viale J.F.Kennedy 54\, Napoli\, 80125
CATEGORIES:Spettacolo
ATTACH;FMTTYPE=image/jpeg:https://mostradoltremare.it/wp-content/uploads/2024/10/25208_image_solo-Luigi-Libra-MANIFESTO-100x140-1.jpg
ORGANIZER;CN="Chic%20%26%20Spuntini%20d%27Arte%20srls":MAILTO:chicespuntinidarte@gmail_com
END:VEVENT
END:VCALENDAR