BEGIN:VCALENDAR
VERSION:2.0
PRODID:-//Mostra d&#039;Oltremare - ECPv6.15.20//NONSGML v1.0//EN
CALSCALE:GREGORIAN
METHOD:PUBLISH
X-WR-CALNAME:Mostra d&#039;Oltremare
X-ORIGINAL-URL:https://mostradoltremare.it
X-WR-CALDESC:Eventi per Mostra d&#039;Oltremare
REFRESH-INTERVAL;VALUE=DURATION:PT1H
X-Robots-Tag:noindex
X-PUBLISHED-TTL:PT1H
BEGIN:VTIMEZONE
TZID:UTC
BEGIN:STANDARD
TZOFFSETFROM:+0000
TZOFFSETTO:+0000
TZNAME:UTC
DTSTART:20180101T000000
END:STANDARD
END:VTIMEZONE
BEGIN:VEVENT
DTSTART;TZID=UTC:20190101T193000
DTEND;TZID=UTC:20190101T213000
DTSTAMP:20260422T111641
CREATED:20241007T173759Z
LAST-MODIFIED:20241007T173821Z
UID:24399-1546371000-1546378200@mostradoltremare.it
SUMMARY:Concerto di Capodanno 2019 - 24^ edizione
DESCRIPTION:della Nuova Orchestra Scarlatti\, dal titolo “Playing Orchestra”\, un ininterrotto flusso di metamorfosi sonore.\nIn programma musiche di Cimarosa\, Bach\, Lennon\, Morricone\, Theodorakis\, Bizet\, Carosone\, Dvoràk\, Strauss.\nDirettore Marco Attura – Mimo\, Voce e Violoncello Giovanna Famulari.\nBiglietti in vendita presso il circuito TicketOnLine su www.azzurroservice.net.
URL:https://mostradoltremare.it/event/concerto-di-capodanno-2019-24-edizione/
LOCATION:Teatro Mediterraneo e Piazzale antistante\, Viale J.F.Kennedy 54\, Napoli\, 80125
CATEGORIES:Spettacolo
ATTACH;FMTTYPE=image/jpeg:https://mostradoltremare.it/wp-content/uploads/2024/10/24399_image_TEATRO-MEDITERRANEO.jpg
ORGANIZER;CN="Associazione Nuova Orchestra Scarlatti":MAILTO:info@nuovaorchestrascarlatti_it
END:VEVENT
END:VCALENDAR