BEGIN:VCALENDAR
VERSION:2.0
PRODID:-//Mostra d&#039;Oltremare - ECPv6.15.20//NONSGML v1.0//EN
CALSCALE:GREGORIAN
METHOD:PUBLISH
X-WR-CALNAME:Mostra d&#039;Oltremare
X-ORIGINAL-URL:https://mostradoltremare.it
X-WR-CALDESC:Eventi per Mostra d&#039;Oltremare
REFRESH-INTERVAL;VALUE=DURATION:PT1H
X-Robots-Tag:noindex
X-PUBLISHED-TTL:PT1H
BEGIN:VTIMEZONE
TZID:UTC
BEGIN:STANDARD
TZOFFSETFROM:+0000
TZOFFSETTO:+0000
TZNAME:UTC
DTSTART:20180101T000000
END:STANDARD
END:VTIMEZONE
BEGIN:VEVENT
DTSTART;TZID=UTC:20190112T203000
DTEND;TZID=UTC:20190112T233000
DTSTAMP:20260422T111737
CREATED:20241007T173955Z
LAST-MODIFIED:20241007T174016Z
UID:24407-1547325000-1547335800@mostradoltremare.it
SUMMARY:Un mondo di solidarietà 2019 - 11^ edizione
DESCRIPTION:Gala della Città di Napoli. Spettacolo di beneficenza. Il ricavato sarà devoluto alla “Casa di Matteo” di Bacoli ed all’AILR (Associazione Italiana per la Lotta al Retinoblastoma) guidata dai medici dell’Ospedale Bambin Gesù di Roma.\nMadrina: Maria Grazia Cucinotta.\nPresentano: Maria Mazza e Peppe Iodice\nPer informazioni: info@unmondodisolidarieta.org
URL:https://mostradoltremare.it/event/un-mondo-di-solidarieta-2019-11-edizione/
LOCATION:Teatro Mediterraneo e Piazzale antistante\, Viale J.F.Kennedy 54\, Napoli\, 80125
CATEGORIES:Spettacoli
ATTACH;FMTTYPE=image/jpeg:https://mostradoltremare.it/wp-content/uploads/2024/10/24407_image_charity-un-mondo-di-solidarieta-2019.jpg
ORGANIZER;CN="Associazione di Volontariato Puer Onlus":MAILTO:info@puer_it
END:VEVENT
END:VCALENDAR